Workbook

Sheet 2027
A1: ACADIA PARISH 01
A2: LIC | B2: NO OF | C2: NO OF | D2: DOLLARS | E2: DOLLARS | F2: NET DEV | G2: FRANCHISE
A3: TYPE | B3: VGD'S | C3: ESTAB | D3: IN | E3: OUT | F3: REVENUE | G3: FEES
A4: TYPE 1 | B4: ='4th FY 2026'!B4 -> 0 | C4: ='4th FY 2026'!C4 -> 0 | D4: ='1st FY 2027'!D4+'2nd FY 2026'!D4+'3rd FY 2026'!D4+'4th FY 2026'!D4 -> 2464926.4 | E4: ='1st FY 2027'!E4+'2nd FY 2026'!E4+'3rd FY 2026'!E4+'4th FY 2026'!E4 -> 1766360.7 | F4: ='1st FY 2027'!F4+'2nd FY 2026'!F4+'3rd FY 2026'!F4+'4th FY 2026'!F4 -> 698565.65 | G4: ='1st FY 2027'!G4+'2nd FY 2026'!G4+'3rd FY 2026'!G4+'4th FY 2026'!G4 -> 181627.07
A5: TYPE 2 | B5: ='4th FY 2026'!B5 -> 0 | C5: ='4th FY 2026'!C5 -> 0 | D5: ='1st FY 2027'!D5+'2nd FY 2026'!D5+'3rd FY 2026'!D5+'4th FY 2026'!D5 -> 812376.35 | E5: ='1st FY 2027'!E5+'2nd FY 2026'!E5+'3rd FY 2026'!E5+'4th FY 2026'!E5 -> 602284.85 | F5: ='1st FY 2027'!F5+'2nd FY 2026'!F5+'3rd FY 2026'!F5+'4th FY 2026'!F5 -> 210091.5 | G5: ='1st FY 2027'!G5+'2nd FY 2026'!G5+'3rd FY 2026'!G5+'4th FY 2026'!G5 -> 54623.79
A6: TYPE 5 | B6: ='4th FY 2026'!B6 -> 0 | C6: ='4th FY 2026'!C6 -> 0 | D6: ='1st FY 2027'!D6+'2nd FY 2026'!D6+'3rd FY 2026'!D6+'4th FY 2026'!D6 -> 34036489 | E6: ='1st FY 2027'!E6+'2nd FY 2026'!E6+'3rd FY 2026'!E6+'4th FY 2026'!E6 -> 25839933 | F6: ='1st FY 2027'!F6+'2nd FY 2026'!F6+'3rd FY 2026'!F6+'4th FY 2026'!F6 -> 8196555.9 | G6: ='1st FY 2027'!G6+'2nd FY 2026'!G6+'3rd FY 2026'!G6+'4th FY 2026'!G6 -> 2663880.6
A7: TOTALS | B7: =SUM(B4:B6) -> 0 | C7: =SUM(C4:C6) -> 0 | D7: =SUM(D4:D6) -> 37313791 | E7: =SUM(E4:E6) -> 28208578 | F7: =SUM(F4:F6) -> 9105213 | G7: =SUM(G4:G6) -> 2900131.5
A9: ASSUMPTION PARISH 04
A10: LIC | B10: NO OF | C10: NO OF | D10: DOLLARS | E10: DOLLARS | F10: NET DEV | G10: FRANCHISE
A11: TYPE | B11: VGD'S | C11: ESTAB | D11: IN | E11: OUT | F11: REVENUE | G11: FEES
A12: TYPE 1 | B12: ='4th FY 2026'!B12 -> 0 | C12: ='4th FY 2026'!C12 -> 0 | D12: ='1st FY 2027'!D12+'2nd FY 2026'!D12+'3rd FY 2026'!D12+'4th FY 2026'!D12 -> 733783 | E12: ='1st FY 2027'!E12+'2nd FY 2026'!E12+'3rd FY 2026'!E12+'4th FY 2026'!E12 -> 553621.5 | F12: ='1st FY 2027'!F12+'2nd FY 2026'!F12+'3rd FY 2026'!F12+'4th FY 2026'!F12 -> 180161.5 | G12: ='1st FY 2027'!G12+'2nd FY 2026'!G12+'3rd FY 2026'!G12+'4th FY 2026'!G12 -> 46841.99
A13: TYPE 2 | B13: ='4th FY 2026'!B13 -> 0 | C13: ='4th FY 2026'!C13 -> 0 | D13: ='1st FY 2027'!D13+'2nd FY 2026'!D13+'3rd FY 2026'!D13+'4th FY 2026'!D13 -> 403058 | E13: ='1st FY 2027'!E13+'2nd FY 2026'!E13+'3rd FY 2026'!E13+'4th FY 2026'!E13 -> 307551.2 | F13: ='1st FY 2027'!F13+'2nd FY 2026'!F13+'3rd FY 2026'!F13+'4th FY 2026'!F13 -> 95506.8 | G13: ='1st FY 2027'!G13+'2nd FY 2026'!G13+'3rd FY 2026'!G13+'4th FY 2026'!G13 -> 24831.77
A14: TYPE 5 | B14: ='4th FY 2026'!B14 -> 0 | C14: ='4th FY 2026'!C14 -> 0 | D14: ='1st FY 2027'!D14+'2nd FY 2026'!D14+'3rd FY 2026'!D14+'4th FY 2026'!D14 -> 7001526 | E14: ='1st FY 2027'!E14+'2nd FY 2026'!E14+'3rd FY 2026'!E14+'4th FY 2026'!E14 -> 5096092.6 | F14: ='1st FY 2027'!F14+'2nd FY 2026'!F14+'3rd FY 2026'!F14+'4th FY 2026'!F14 -> 1905433.4 | G14: ='1st FY 2027'!G14+'2nd FY 2026'!G14+'3rd FY 2026'!G14+'4th FY 2026'!G14 -> 619265.86
A15: TOTALS | B15: =SUM(B12:B14) -> 0 | C15: =SUM(C12:C14) -> 0 | D15: =SUM(D12:D14) -> 8138367 | E15: =SUM(E12:E14) -> 5957265.3 | F15: =SUM(F12:F14) -> 2181101.7 | G15: =SUM(G12:G14) -> 690939.62
A17: AVOYELLES PARISH 05
A18: LIC | B18: NO OF | C18: NO OF | D18: DOLLARS | E18: DOLLARS | F18: NET DEV | G18: FRANCHISE
A19: TYPE | B19: VGD'S | C19: ESTAB | D19: IN | E19: OUT | F19: REVENUE | G19: FEES
A20: TYPE 1 | B20: ='4th FY 2026'!B20 -> 0 | C20: ='4th FY 2026'!C20 -> 0 | D20: ='1st FY 2027'!D20+'2nd FY 2026'!D20+'3rd FY 2026'!D20+'4th FY 2026'!D20 -> 978652 | E20: ='1st FY 2027'!E20+'2nd FY 2026'!E20+'3rd FY 2026'!E20+'4th FY 2026'!E20 -> 694366.45 | F20: ='1st FY 2027'!F20+'2nd FY 2026'!F20+'3rd FY 2026'!F20+'4th FY 2026'!F20 -> 284285.55 | G20: ='1st FY 2027'!G20+'2nd FY 2026'!G20+'3rd FY 2026'!G20+'4th FY 2026'!G20 -> 73914.24
A21: TYPE 2 | B21: ='4th FY 2026'!B21 -> 0 | C21: ='4th FY 2026'!C21 -> 0 | D21: ='1st FY 2027'!D21+'2nd FY 2026'!D21+'3rd FY 2026'!D21+'4th FY 2026'!D21 -> 446022 | E21: ='1st FY 2027'!E21+'2nd FY 2026'!E21+'3rd FY 2026'!E21+'4th FY 2026'!E21 -> 310669.85 | F21: ='1st FY 2027'!F21+'2nd FY 2026'!F21+'3rd FY 2026'!F21+'4th FY 2026'!F21 -> 135352.15 | G21: ='1st FY 2027'!G21+'2nd FY 2026'!G21+'3rd FY 2026'!G21+'4th FY 2026'!G21 -> 35191.56
A22: TYPE 5 | B22: ='4th FY 2026'!B22 -> 0 | C22: ='4th FY 2026'!C22 -> 0 | D22: ='1st FY 2027'!D22+'2nd FY 2026'!D22+'3rd FY 2026'!D22+'4th FY 2026'!D22 -> 6496503.7 | E22: ='1st FY 2027'!E22+'2nd FY 2026'!E22+'3rd FY 2026'!E22+'4th FY 2026'!E22 -> 4797591.7 | F22: ='1st FY 2027'!F22+'2nd FY 2026'!F22+'3rd FY 2026'!F22+'4th FY 2026'!F22 -> 1698912 | G22: ='1st FY 2027'!G22+'2nd FY 2026'!G22+'3rd FY 2026'!G22+'4th FY 2026'!G22 -> 552146.38
A23: TOTALS | B23: =SUM(B20:B22) -> 0 | C23: =SUM(C20:C22) -> 0 | D23: =SUM(D20:D22) -> 7921177.7 | E23: =SUM(E20:E22) -> 5802628 | F23: =SUM(F20:F22) -> 2118549.7 | G23: =SUM(G20:G22) -> 661252.18
A25: BOSSIER PARISH 08
A26: LIC | B26: NO OF | C26: NO OF | D26: DOLLARS | E26: DOLLARS | F26: NET DEV | G26: FRANCHISE
A27: TYPE | B27: VGD'S | C27: ESTAB | D27: IN | E27: OUT | F27: REVENUE | G27: FEES
A28: TYPE 1 | B28: ='4th FY 2026'!B28 -> 0 | C28: ='4th FY 2026'!C28 -> 0 | D28: ='1st FY 2027'!D28+'2nd FY 2026'!D28+'3rd FY 2026'!D28+'4th FY 2026'!D28 -> 2362733.4 | E28: ='1st FY 2027'!E28+'2nd FY 2026'!E28+'3rd FY 2026'!E28+'4th FY 2026'!E28 -> 1708578.4 | F28: ='1st FY 2027'!F28+'2nd FY 2026'!F28+'3rd FY 2026'!F28+'4th FY 2026'!F28 -> 654155 | G28: ='1st FY 2027'!G28+'2nd FY 2026'!G28+'3rd FY 2026'!G28+'4th FY 2026'!G28 -> 170080.3
A29: TYPE 2 | B29: ='4th FY 2026'!B29 -> 0 | C29: ='4th FY 2026'!C29 -> 0 | D29: ='1st FY 2027'!D29+'2nd FY 2026'!D29+'3rd FY 2026'!D29+'4th FY 2026'!D29 -> 1089992.1 | E29: ='1st FY 2027'!E29+'2nd FY 2026'!E29+'3rd FY 2026'!E29+'4th FY 2026'!E29 -> 743086.15 | F29: ='1st FY 2027'!F29+'2nd FY 2026'!F29+'3rd FY 2026'!F29+'4th FY 2026'!F29 -> 346905.9 | G29: ='1st FY 2027'!G29+'2nd FY 2026'!G29+'3rd FY 2026'!G29+'4th FY 2026'!G29 -> 90195.53
A30: TYPE 3 | B30: ='4th FY 2026'!B30 -> 0 | C30: ='4th FY 2026'!C30 -> 0 | D30: ='1st FY 2027'!D30+'2nd FY 2026'!D30+'3rd FY 2026'!D30+'4th FY 2026'!D30 -> 314565.45 | E30: ='1st FY 2027'!E30+'2nd FY 2026'!E30+'3rd FY 2026'!E30+'4th FY 2026'!E30 -> 239684.45 | F30: ='1st FY 2027'!F30+'2nd FY 2026'!F30+'3rd FY 2026'!F30+'4th FY 2026'!F30 -> 74881 | G30: ='1st FY 2027'!G30+'2nd FY 2026'!G30+'3rd FY 2026'!G30+'4th FY 2026'!G30 -> 19469.06
A31: TYPE 5 | B31: ='4th FY 2026'!B31 -> 0 | C31: ='4th FY 2026'!C31 -> 0 | D31: ='1st FY 2027'!D31+'2nd FY 2026'!D31+'3rd FY 2026'!D31+'4th FY 2026'!D31 -> 7345712.8 | E31: ='1st FY 2027'!E31+'2nd FY 2026'!E31+'3rd FY 2026'!E31+'4th FY 2026'!E31 -> 5406263.2 | F31: ='1st FY 2027'!F31+'2nd FY 2026'!F31+'3rd FY 2026'!F31+'4th FY 2026'!F31 -> 1939449.6 | G31: ='1st FY 2027'!G31+'2nd FY 2026'!G31+'3rd FY 2026'!G31+'4th FY 2026'!G31 -> 630321.12
A32: TOTALS | B32: =SUM(B28:B31) -> 0 | C32: =SUM(C28:C31) -> 0 | D32: =SUM(D28:D31) -> 11113004 | E32: =SUM(E28:E31) -> 8097612.2 | F32: =SUM(F28:F31) -> 3015391.5 | G32: =SUM(G28:G31) -> 910066.01
A34: CADDO PARISH 09
A35: LIC | B35: NO OF | C35: NO OF | D35: DOLLARS | E35: DOLLARS | F35: NET DEV | G35: FRANCHISE
A36: TYPE | B36: VGD'S | C36: ESTAB | D36: IN | E36: OUT | F36: REVENUE | G36: FEES
A37: TYPE 1 | B37: ='4th FY 2026'!B37 -> 0 | C37: ='4th FY 2026'!C37 -> 0 | D37: ='1st FY 2027'!D37+'2nd FY 2026'!D37+'3rd FY 2026'!D37+'4th FY 2026'!D37 -> 5883752.2 | E37: ='1st FY 2027'!E37+'2nd FY 2026'!E37+'3rd FY 2026'!E37+'4th FY 2026'!E37 -> 4311142.3 | F37: ='1st FY 2027'!F37+'2nd FY 2026'!F37+'3rd FY 2026'!F37+'4th FY 2026'!F37 -> 1572609.9 | G37: ='1st FY 2027'!G37+'2nd FY 2026'!G37+'3rd FY 2026'!G37+'4th FY 2026'!G37 -> 408878.57
A38: TYPE 2 | B38: ='4th FY 2026'!B38 -> 0 | C38: ='4th FY 2026'!C38 -> 0 | D38: ='1st FY 2027'!D38+'2nd FY 2026'!D38+'3rd FY 2026'!D38+'4th FY 2026'!D38 -> 1850897.2 | E38: ='1st FY 2027'!E38+'2nd FY 2026'!E38+'3rd FY 2026'!E38+'4th FY 2026'!E38 -> 1286536.4 | F38: ='1st FY 2027'!F38+'2nd FY 2026'!F38+'3rd FY 2026'!F38+'4th FY 2026'!F38 -> 564360.8 | G38: ='1st FY 2027'!G38+'2nd FY 2026'!G38+'3rd FY 2026'!G38+'4th FY 2026'!G38 -> 146733.81
A39: TYPE 3 | B39: ='4th FY 2026'!B39 -> 0 | C39: ='4th FY 2026'!C39 -> 0 | D39: ='1st FY 2027'!D39+'2nd FY 2026'!D39+'3rd FY 2026'!D39+'4th FY 2026'!D39 -> 524144.7 | E39: ='1st FY 2027'!E39+'2nd FY 2026'!E39+'3rd FY 2026'!E39+'4th FY 2026'!E39 -> 426471.2 | F39: ='1st FY 2027'!F39+'2nd FY 2026'!F39+'3rd FY 2026'!F39+'4th FY 2026'!F39 -> 97673.5 | G39: ='1st FY 2027'!G39+'2nd FY 2026'!G39+'3rd FY 2026'!G39+'4th FY 2026'!G39 -> 25395.11
A40: TYPE 5 | B40: ='4th FY 2026'!B40 -> 0 | C40: ='4th FY 2026'!C40 -> 0 | D40: ='1st FY 2027'!D40+'2nd FY 2026'!D40+'3rd FY 2026'!D40+'4th FY 2026'!D40 -> 36659585 | E40: ='1st FY 2027'!E40+'2nd FY 2026'!E40+'3rd FY 2026'!E40+'4th FY 2026'!E40 -> 27916109 | F40: ='1st FY 2027'!F40+'2nd FY 2026'!F40+'3rd FY 2026'!F40+'4th FY 2026'!F40 -> 8743475.4 | G40: ='1st FY 2027'!G40+'2nd FY 2026'!G40+'3rd FY 2026'!G40+'4th FY 2026'!G40 -> 2841629.5
A41: TOTALS | B41: =SUM(B37:B40) -> 0 | C41: =SUM(C37:C40) -> 0 | D41: =SUM(D37:D40) -> 44918379 | E41: =SUM(E37:E40) -> 33940259 | F41: =SUM(F37:F40) -> 10978120 | G41: =SUM(G37:G40) -> 3422637
A43: CALCASIEU PARISH 10
A44: LIC | B44: NO OF | C44: NO OF | D44: DOLLARS | E44: DOLLARS | F44: NET DEV | G44: FRANCHISE
A45: TYPE | B45: VGD'S | C45: ESTAB | D45: IN | E45: OUT | F45: REVENUE | G45: FEES
A46: TYPE 1 | B46: ='4th FY 2026'!B46 -> 0 | C46: ='4th FY 2026'!C46 -> 0 | D46: ='1st FY 2027'!D46+'2nd FY 2026'!D46+'3rd FY 2026'!D46+'4th FY 2026'!D46 -> 6189305.6 | E46: ='1st FY 2027'!E46+'2nd FY 2026'!E46+'3rd FY 2026'!E46+'4th FY 2026'!E46 -> 4376727.1 | F46: ='1st FY 2027'!F46+'2nd FY 2026'!F46+'3rd FY 2026'!F46+'4th FY 2026'!F46 -> 1812578.5 | G46: ='1st FY 2027'!G46+'2nd FY 2026'!G46+'3rd FY 2026'!G46+'4th FY 2026'!G46 -> 471270.41
A47: TYPE 2 | B47: ='4th FY 2026'!B47 -> 0 | C47: ='4th FY 2026'!C47 -> 0 | D47: ='1st FY 2027'!D47+'2nd FY 2026'!D47+'3rd FY 2026'!D47+'4th FY 2026'!D47 -> 1200110.4 | E47: ='1st FY 2027'!E47+'2nd FY 2026'!E47+'3rd FY 2026'!E47+'4th FY 2026'!E47 -> 856246.85 | F47: ='1st FY 2027'!F47+'2nd FY 2026'!F47+'3rd FY 2026'!F47+'4th FY 2026'!F47 -> 343863.55 | G47: ='1st FY 2027'!G47+'2nd FY 2026'!G47+'3rd FY 2026'!G47+'4th FY 2026'!G47 -> 89404.52
A48: TYPE 5 | B48: ='4th FY 2026'!B48 -> 0 | C48: ='4th FY 2026'!C48 -> 0 | D48: ='1st FY 2027'!D48+'2nd FY 2026'!D48+'3rd FY 2026'!D48+'4th FY 2026'!D48 -> 51108523 | E48: ='1st FY 2027'!E48+'2nd FY 2026'!E48+'3rd FY 2026'!E48+'4th FY 2026'!E48 -> 38213148 | F48: ='1st FY 2027'!F48+'2nd FY 2026'!F48+'3rd FY 2026'!F48+'4th FY 2026'!F48 -> 12895375 | G48: ='1st FY 2027'!G48+'2nd FY 2026'!G48+'3rd FY 2026'!G48+'4th FY 2026'!G48 -> 4190996.9
A49: TOTALS | B49: =SUM(B46:B48) -> 0 | C49: =SUM(C46:C48) -> 0 | D49: =SUM(D46:D48) -> 58497939 | E49: =SUM(E46:E48) -> 43446122 | F49: =SUM(F46:F48) -> 15051817 | G49: =SUM(G46:G48) -> 4751671.8
A51: CAMERON PARISH 12
A52: LIC | B52: NO OF | C52: NO OF | D52: DOLLARS | E52: DOLLARS | F52: NET DEV | G52: FRANCHISE
A53: TYPE | B53: VGD'S | C53: ESTAB | D53: IN | E53: OUT | F53: REVENUE | G53: FEES
A54: TYPE 1 | B54: ='4th FY 2026'!B54 -> 0 | C54: ='4th FY 2026'!C54 -> 0 | D54: ='1st FY 2027'!D54+'2nd FY 2026'!D54+'3rd FY 2026'!D54+'4th FY 2026'!D54 -> 379843 | E54: ='1st FY 2027'!E54+'2nd FY 2026'!E54+'3rd FY 2026'!E54+'4th FY 2026'!E54 -> 267591.35 | F54: ='1st FY 2027'!F54+'2nd FY 2026'!F54+'3rd FY 2026'!F54+'4th FY 2026'!F54 -> 112251.65 | G54: ='1st FY 2027'!G54+'2nd FY 2026'!G54+'3rd FY 2026'!G54+'4th FY 2026'!G54 -> 29185.43
A55: TYPE 2 | B55: ='4th FY 2026'!B55 -> 0 | C55: ='4th FY 2026'!C55 -> 0 | D55: ='1st FY 2027'!D55+'2nd FY 2026'!D55+'3rd FY 2026'!D55+'4th FY 2026'!D55 -> 56189 | E55: ='1st FY 2027'!E55+'2nd FY 2026'!E55+'3rd FY 2026'!E55+'4th FY 2026'!E55 -> 38157.75 | F55: ='1st FY 2027'!F55+'2nd FY 2026'!F55+'3rd FY 2026'!F55+'4th FY 2026'!F55 -> 18031.25 | G55: ='1st FY 2027'!G55+'2nd FY 2026'!G55+'3rd FY 2026'!G55+'4th FY 2026'!G55 -> 4688.13
A56: TYPE 3 | B56: ='4th FY 2026'!B56 -> 0 | C56: ='4th FY 2026'!C56 -> 0 | D56: ='1st FY 2027'!D56+'2nd FY 2026'!D56+'3rd FY 2026'!D56+'4th FY 2026'!D56 -> 58508 | E56: ='1st FY 2027'!E56+'2nd FY 2026'!E56+'3rd FY 2026'!E56+'4th FY 2026'!E56 -> 40037.3 | F56: ='1st FY 2027'!F56+'2nd FY 2026'!F56+'3rd FY 2026'!F56+'4th FY 2026'!F56 -> 18470.7 | G56: ='1st FY 2027'!G56+'2nd FY 2026'!G56+'3rd FY 2026'!G56+'4th FY 2026'!G56 -> 4802.38
A57: TOTALS | B57: =SUM(B54:B55) -> 0 | C57: =SUM(C54:C55) -> 0 | D57: =SUM(D54:D56) -> 494540 | E57: =SUM(E54:E56) -> 345786.4 | F57: =SUM(F54:F56) -> 148753.6 | G57: =SUM(G54:G56) -> 38675.94
A59: DESOTO PARISH 16
A60: LIC | B60: NO OF | C60: NO OF | D60: DOLLARS | E60: DOLLARS | F60: NET DEV | G60: FRANCHISE
A61: TYPE | B61: VGD'S | C61: ESTAB | D61: IN | E61: OUT | F61: REVENUE | G61: FEES
A62: TYPE 1 | B62: ='4th FY 2026'!B62 -> 0 | C62: ='4th FY 2026'!C62 -> 0 | D62: ='1st FY 2027'!D62+'2nd FY 2026'!D62+'3rd FY 2026'!D62+'4th FY 2026'!D62 -> 60059 | E62: ='1st FY 2027'!E62+'2nd FY 2026'!E62+'3rd FY 2026'!E62+'4th FY 2026'!E62 -> 38386.1 | F62: ='1st FY 2027'!F62+'2nd FY 2026'!F62+'3rd FY 2026'!F62+'4th FY 2026'!F62 -> 21672.9 | G62: ='1st FY 2027'!G62+'2nd FY 2026'!G62+'3rd FY 2026'!G62+'4th FY 2026'!G62 -> 5634.95
A63: TYPE 5 | B63: ='4th FY 2026'!B63 -> 0 | C63: ='4th FY 2026'!C63 -> 0 | D63: ='1st FY 2027'!D63+'2nd FY 2026'!D63+'3rd FY 2026'!D63+'4th FY 2026'!D63 -> 11046805 | E63: ='1st FY 2027'!E63+'2nd FY 2026'!E63+'3rd FY 2026'!E63+'4th FY 2026'!E63 -> 8383398.6 | F63: ='1st FY 2027'!F63+'2nd FY 2026'!F63+'3rd FY 2026'!F63+'4th FY 2026'!F63 -> 2663406.2 | G63: ='1st FY 2027'!G63+'2nd FY 2026'!G63+'3rd FY 2026'!G63+'4th FY 2026'!G63 -> 865607.02
A64: TOTALS | B64: =SUM(B62:B63) -> 0 | C64: =SUM(C62:C63) -> 0 | D64: =SUM(D62:D63) -> 11106864 | E64: =SUM(E62:E63) -> 8421784.7 | F64: =SUM(F62:F63) -> 2685079.1 | G64: =SUM(G62:G63) -> 871241.97
A66: EAST CARROLL PARISH 18
A67: LIC | B67: NO OF | C67: NO OF | D67: DOLLARS | E67: DOLLARS | F67: NET DEV | G67: FRANCHISE
A68: TYPE | B68: VGD'S | C68: ESTAB | D68: IN | E68: OUT | F68: REVENUE | G68: FEES
A69: TYPE 1 | B69: ='4th FY 2026'!B69 -> 0 | C69: ='4th FY 2026'!C69 -> 0 | D69: ='1st FY 2027'!D69+'2nd FY 2026'!D69+'3rd FY 2026'!D69+'4th FY 2026'!D69 -> 931754 | E69: ='1st FY 2027'!E69+'2nd FY 2026'!E69+'3rd FY 2026'!E69+'4th FY 2026'!E69 -> 697502.7 | F69: ='1st FY 2027'!F69+'2nd FY 2026'!F69+'3rd FY 2026'!F69+'4th FY 2026'!F69 -> 234251.3 | G69: ='1st FY 2027'!G69+'2nd FY 2026'!G69+'3rd FY 2026'!G69+'4th FY 2026'!G69 -> 60905.34
A70: TYPE 2 | B70: ='4th FY 2026'!B70 -> 0 | C70: ='4th FY 2026'!C70 -> 0 | D70: ='1st FY 2027'!D70+'2nd FY 2026'!D70+'3rd FY 2026'!D70+'4th FY 2026'!D70 -> 0 | E70: ='1st FY 2027'!E70+'2nd FY 2026'!E70+'3rd FY 2026'!E70+'4th FY 2026'!E70 -> 0 | F70: ='1st FY 2027'!F70+'2nd FY 2026'!F70+'3rd FY 2026'!F70+'4th FY 2026'!F70 -> 0 | G70: ='1st FY 2027'!G70+'2nd FY 2026'!G70+'3rd FY 2026'!G70+'4th FY 2026'!G70 -> 0
A71: TYPE 5 | B71: ='4th FY 2026'!B71 -> 0 | C71: ='4th FY 2026'!C71 -> 0 | D71: ='1st FY 2027'!D71+'2nd FY 2026'!D71+'3rd FY 2026'!D71+'4th FY 2026'!D71 -> 1435024 | E71: ='1st FY 2027'!E71+'2nd FY 2026'!E71+'3rd FY 2026'!E71+'4th FY 2026'!E71 -> 1093291.8 | F71: ='1st FY 2027'!F71+'2nd FY 2026'!F71+'3rd FY 2026'!F71+'4th FY 2026'!F71 -> 341732.25 | G71: ='1st FY 2027'!G71+'2nd FY 2026'!G71+'3rd FY 2026'!G71+'4th FY 2026'!G71 -> 111062.98
A72: TOTALS | B72: =SUM(B69:B71) -> 0 | C72: =SUM(C69:C71) -> 0 | D72: =SUM(D69:D71) -> 2366778 | E72: =SUM(E69:E71) -> 1790794.4 | F72: =SUM(F69:F71) -> 575983.55 | G72: =SUM(G69:G71) -> 171968.32
A74: IBERVILLE PARISH 24
A75: LIC | B75: NO OF | C75: NO OF | D75: DOLLARS | E75: DOLLARS | F75: NET DEV | G75: FRANCHISE
A76: TYPE | B76: VGD'S | C76: ESTAB | D76: IN | E76: OUT | F76: REVENUE | G76: FEES
A77: TYPE 1 | B77: ='4th FY 2026'!B77 -> 0 | C77: ='4th FY 2026'!C77 -> 0 | D77: ='1st FY 2027'!D77+'2nd FY 2026'!D77+'3rd FY 2026'!D77+'4th FY 2026'!D77 -> 2250785 | E77: ='1st FY 2027'!E77+'2nd FY 2026'!E77+'3rd FY 2026'!E77+'4th FY 2026'!E77 -> 1601880.5 | F77: ='1st FY 2027'!F77+'2nd FY 2026'!F77+'3rd FY 2026'!F77+'4th FY 2026'!F77 -> 648904.5 | G77: ='1st FY 2027'!G77+'2nd FY 2026'!G77+'3rd FY 2026'!G77+'4th FY 2026'!G77 -> 168715.17
A78: TYPE 2 | B78: ='4th FY 2026'!B78 -> 0 | C78: ='4th FY 2026'!C78 -> 0 | D78: ='1st FY 2027'!D78+'2nd FY 2026'!D78+'3rd FY 2026'!D78+'4th FY 2026'!D78 -> 927757.1 | E78: ='1st FY 2027'!E78+'2nd FY 2026'!E78+'3rd FY 2026'!E78+'4th FY 2026'!E78 -> 678438.55 | F78: ='1st FY 2027'!F78+'2nd FY 2026'!F78+'3rd FY 2026'!F78+'4th FY 2026'!F78 -> 249318.55 | G78: ='1st FY 2027'!G78+'2nd FY 2026'!G78+'3rd FY 2026'!G78+'4th FY 2026'!G78 -> 64822.82
A79: TYPE 5 | B79: ='4th FY 2026'!B79 -> 0 | C79: ='4th FY 2026'!C79 -> 0 | D79: ='1st FY 2027'!D79+'2nd FY 2026'!D79+'3rd FY 2026'!D79+'4th FY 2026'!D79 -> 18223223 | E79: ='1st FY 2027'!E79+'2nd FY 2026'!E79+'3rd FY 2026'!E79+'4th FY 2026'!E79 -> 13819345 | F79: ='1st FY 2027'!F79+'2nd FY 2026'!F79+'3rd FY 2026'!F79+'4th FY 2026'!F79 -> 4403877.5 | G79: ='1st FY 2027'!G79+'2nd FY 2026'!G79+'3rd FY 2026'!G79+'4th FY 2026'!G79 -> 1431260.2
A80: TOTALS | B80: =SUM(B77:B79) -> 0 | C80: =SUM(C77:C79) -> 0 | D80: =SUM(D77:D79) -> 21401765 | E80: =SUM(E77:E79) -> 16099664 | F80: =SUM(F77:F79) -> 5302100.6 | G80: =SUM(G77:G79) -> 1664798.2
A82: JEFFERSON PARISH 26
A83: LIC | B83: NO OF | C83: NO OF | D83: DOLLARS | E83: DOLLARS | F83: NET DEV | G83: FRANCHISE
A84: TYPE | B84: VGD'S | C84: ESTAB | D84: IN | E84: OUT | F84: REVENUE | G84: FEES
A85: TYPE 1 | B85: ='4th FY 2026'!B85 -> 0 | C85: ='4th FY 2026'!C85 -> 0 | D85: ='1st FY 2027'!D85+'2nd FY 2026'!D85+'3rd FY 2026'!D85+'4th FY 2026'!D85 -> 32772468 | E85: ='1st FY 2027'!E85+'2nd FY 2026'!E85+'3rd FY 2026'!E85+'4th FY 2026'!E85 -> 23405093 | F85: ='1st FY 2027'!F85+'2nd FY 2026'!F85+'3rd FY 2026'!F85+'4th FY 2026'!F85 -> 9367374.2 | G85: ='1st FY 2027'!G85+'2nd FY 2026'!G85+'3rd FY 2026'!G85+'4th FY 2026'!G85 -> 2435517.3
A86: TYPE 2 | B86: ='4th FY 2026'!B86 -> 0 | C86: ='4th FY 2026'!C86 -> 0 | D86: ='1st FY 2027'!D86+'2nd FY 2026'!D86+'3rd FY 2026'!D86+'4th FY 2026'!D86 -> 13529023 | E86: ='1st FY 2027'!E86+'2nd FY 2026'!E86+'3rd FY 2026'!E86+'4th FY 2026'!E86 -> 9756771.8 | F86: ='1st FY 2027'!F86+'2nd FY 2026'!F86+'3rd FY 2026'!F86+'4th FY 2026'!F86 -> 3772251.6 | G86: ='1st FY 2027'!G86+'2nd FY 2026'!G86+'3rd FY 2026'!G86+'4th FY 2026'!G86 -> 980785.4
A87: TYPE 4 | B87: ='4th FY 2026'!B88 -> 0 | C87: ='4th FY 2026'!C88 -> 0 | D87: ='1st FY 2027'!D87+'2nd FY 2026'!D87+'3rd FY 2026'!D88+'4th FY 2026'!D88 -> 33183561 | E87: ='1st FY 2027'!E87+'2nd FY 2026'!E87+'3rd FY 2026'!E88+'4th FY 2026'!E88 -> 26063097 | F87: ='1st FY 2027'!F87+'2nd FY 2026'!F87+'3rd FY 2026'!F88+'4th FY 2026'!F88 -> 7120464.4 | G87: ='1st FY 2027'!G87+'2nd FY 2026'!G87+'3rd FY 2026'!G88+'4th FY 2026'!G88 -> 1281683.6
A88: TYPE 5 | B88: ='4th FY 2026'!B89 -> 0 | C88: ='4th FY 2026'!C89 -> 0 | D88: ='1st FY 2027'!D88+'2nd FY 2026'!D88+'3rd FY 2026'!D89+'4th FY 2026'!D89 -> 24842293 | E88: ='1st FY 2027'!E88+'2nd FY 2026'!E88+'3rd FY 2026'!E89+'4th FY 2026'!E89 -> 19099048 | F88: ='1st FY 2027'!F88+'2nd FY 2026'!F88+'3rd FY 2026'!F89+'4th FY 2026'!F89 -> 5743245 | G88: ='1st FY 2027'!G88+'2nd FY 2026'!G88+'3rd FY 2026'!G89+'4th FY 2026'!G89 -> 1866554.6
A89: TOTALS | B89: =SUM(B85:B88) -> 0 | C89: =SUM(C85:C88) -> 0 | D89: =SUM(D85:D88) -> 1.0432735e+08 | E89: =SUM(E85:E88) -> 78324010 | F89: =SUM(F85:F88) -> 26003335 | G89: =SUM(G85:G88) -> 6564540.9
A91: JEFFERSON DAVIS PARISH 27
A92: LIC | B92: NO OF | C92: NO OF | D92: DOLLARS | E92: DOLLARS | F92: NET DEV | G92: FRANCHISE
A93: TYPE | B93: VGD'S | C93: ESTAB | D93: IN | E93: OUT | F93: REVENUE | G93: FEES
A94: TYPE 1 | B94: ='4th FY 2026'!B95 -> 0 | C94: ='4th FY 2026'!C95 -> 0 | D94: ='1st FY 2027'!D94+'2nd FY 2026'!D94+'3rd FY 2026'!D95+'4th FY 2026'!D95 -> 951195 | E94: ='1st FY 2027'!E94+'2nd FY 2026'!E94+'3rd FY 2026'!E95+'4th FY 2026'!E95 -> 736039.25 | F94: ='1st FY 2027'!F94+'2nd FY 2026'!F94+'3rd FY 2026'!F95+'4th FY 2026'!F95 -> 215155.75 | G94: ='1st FY 2027'!G94+'2nd FY 2026'!G94+'3rd FY 2026'!G95+'4th FY 2026'!G95 -> 55940.5
A95: TYPE 2 | B95: ='4th FY 2026'!B96 -> 0 | C95: ='4th FY 2026'!C96 -> 0 | D95: ='1st FY 2027'!D95+'2nd FY 2026'!D95+'3rd FY 2026'!D96+'4th FY 2026'!D96 -> 177759 | E95: ='1st FY 2027'!E95+'2nd FY 2026'!E95+'3rd FY 2026'!E96+'4th FY 2026'!E96 -> 120773.15 | F95: ='1st FY 2027'!F95+'2nd FY 2026'!F95+'3rd FY 2026'!F96+'4th FY 2026'!F96 -> 56985.85 | G95: ='1st FY 2027'!G95+'2nd FY 2026'!G95+'3rd FY 2026'!G96+'4th FY 2026'!G96 -> 14816.32
A96: TYPE 5 | B96: ='4th FY 2026'!B97 -> 0 | C96: ='4th FY 2026'!C97 -> 0 | D96: ='1st FY 2027'!D96+'2nd FY 2026'!D96+'3rd FY 2026'!D97+'4th FY 2026'!D97 -> 7727704 | E96: ='1st FY 2027'!E96+'2nd FY 2026'!E96+'3rd FY 2026'!E97+'4th FY 2026'!E97 -> 5827601.7 | F96: ='1st FY 2027'!F96+'2nd FY 2026'!F96+'3rd FY 2026'!F97+'4th FY 2026'!F97 -> 1900102.3 | G96: ='1st FY 2027'!G96+'2nd FY 2026'!G96+'3rd FY 2026'!G97+'4th FY 2026'!G97 -> 617533.25
A97: TOTALS | B97: =SUM(B94:B96) -> 0 | C97: =SUM(C94:C96) -> 0 | D97: =SUM(D94:D96) -> 8856658 | E97: =SUM(E94:E96) -> 6684414.1 | F97: =SUM(F94:F96) -> 2172243.9 | G97: =SUM(G94:G96) -> 688290.07
A99: LAFOURCHE PARISH 29
A100: LIC | B100: NO OF | C100: NO OF | D100: DOLLARS | E100: DOLLARS | F100: NET DEV | G100: FRANCHISE
A101: TYPE | B101: VGD'S | C101: ESTAB | D101: IN | E101: OUT | F101: REVENUE | G101: FEES
A102: TYPE 1 | B102: ='4th FY 2026'!B103 -> 0 | C102: ='4th FY 2026'!C103 -> 0 | D102: ='1st FY 2027'!D102+'2nd FY 2026'!D102+'3rd FY 2026'!D103+'4th FY 2026'!D103 -> 3722643.2 | E102: ='1st FY 2027'!E102+'2nd FY 2026'!E102+'3rd FY 2026'!E103+'4th FY 2026'!E103 -> 2704136.8 | F102: ='1st FY 2027'!F102+'2nd FY 2026'!F102+'3rd FY 2026'!F103+'4th FY 2026'!F103 -> 1018506.5 | G102: ='1st FY 2027'!G102+'2nd FY 2026'!G102+'3rd FY 2026'!G103+'4th FY 2026'!G103 -> 264811.69
A103: TYPE 2 | B103: ='4th FY 2026'!B104 -> 0 | C103: ='4th FY 2026'!C104 -> 0 | D103: ='1st FY 2027'!D103+'2nd FY 2026'!D103+'3rd FY 2026'!D104+'4th FY 2026'!D104 -> 504076 | E103: ='1st FY 2027'!E103+'2nd FY 2026'!E103+'3rd FY 2026'!E104+'4th FY 2026'!E104 -> 351369.35 | F103: ='1st FY 2027'!F103+'2nd FY 2026'!F103+'3rd FY 2026'!F104+'4th FY 2026'!F104 -> 152706.65 | G103: ='1st FY 2027'!G103+'2nd FY 2026'!G103+'3rd FY 2026'!G104+'4th FY 2026'!G104 -> 39703.73
A104: TYPE 3 | B104: ='4th FY 2026'!B105 -> 0 | C104: ='4th FY 2026'!C105 -> 0 | D104: ='1st FY 2027'!D104+'2nd FY 2026'!D104+'3rd FY 2026'!D105+'4th FY 2026'!D105 -> 224788.4 | E104: ='1st FY 2027'!E104+'2nd FY 2026'!E104+'3rd FY 2026'!E105+'4th FY 2026'!E105 -> 172681.25 | F104: ='1st FY 2027'!F104+'2nd FY 2026'!F104+'3rd FY 2026'!F105+'4th FY 2026'!F105 -> 52107.15 | G104: ='1st FY 2027'!G104+'2nd FY 2026'!G104+'3rd FY 2026'!G105+'4th FY 2026'!G105 -> 13547.86
A105: TYPE 4 | B105: ='4th FY 2026'!B106 -> 0 | C105: ='4th FY 2026'!C106 -> 0 | D105: ='1st FY 2027'!D105+'2nd FY 2026'!D105+'3rd FY 2026'!D106+'4th FY 2026'!D106 -> 1735314 | E105: ='1st FY 2027'!E105+'2nd FY 2026'!E105+'3rd FY 2026'!E106+'4th FY 2026'!E106 -> 1375074.5 | F105: ='1st FY 2027'!F105+'2nd FY 2026'!F105+'3rd FY 2026'!F106+'4th FY 2026'!F106 -> 360239.5 | G105: ='1st FY 2027'!G105+'2nd FY 2026'!G105+'3rd FY 2026'!G106+'4th FY 2026'!G106 -> 64843.11
A106: TYPE 5 | B106: ='4th FY 2026'!B107 -> 0 | C106: ='4th FY 2026'!C107 -> 0 | D106: ='1st FY 2027'!D106+'2nd FY 2026'!D106+'3rd FY 2026'!D107+'4th FY 2026'!D107 -> 37706338 | E106: ='1st FY 2027'!E106+'2nd FY 2026'!E106+'3rd FY 2026'!E107+'4th FY 2026'!E107 -> 28514773 | F106: ='1st FY 2027'!F106+'2nd FY 2026'!F106+'3rd FY 2026'!F107+'4th FY 2026'!F107 -> 9191565.2 | G106: ='1st FY 2027'!G106+'2nd FY 2026'!G106+'3rd FY 2026'!G107+'4th FY 2026'!G107 -> 2987258.7
A107: TOTALS | B107: =SUM(B102:B106) -> 0 | C107: =SUM(C102:C106) -> 0 | D107: =SUM(D102:D106) -> 43893160 | E107: =SUM(E102:E106) -> 33118035 | F107: =SUM(F102:F106) -> 10775125 | G107: =SUM(G102:G106) -> 3370165.1
A109: MADISON PARISH 33
A110: LIC | B110: NO OF | C110: NO OF | D110: DOLLARS | E110: DOLLARS | F110: NET DEV | G110: FRANCHISE
A111: TYPE | B111: VGD'S | C111: ESTAB | D111: IN | E111: OUT | F111: REVENUE | G111: FEES
A112: TYPE 1 | B112: ='4th FY 2026'!B113 -> 0 | C112: ='4th FY 2026'!C113 -> 0 | D112: ='1st FY 2027'!D112+'2nd FY 2026'!D112+'3rd FY 2026'!D113+'4th FY 2026'!D113 -> 159380.75 | E112: ='1st FY 2027'!E112+'2nd FY 2026'!E112+'3rd FY 2026'!E113+'4th FY 2026'!E113 -> 126856.15 | F112: ='1st FY 2027'!F112+'2nd FY 2026'!F112+'3rd FY 2026'!F113+'4th FY 2026'!F113 -> 32524.6 | G112: ='1st FY 2027'!G112+'2nd FY 2026'!G112+'3rd FY 2026'!G113+'4th FY 2026'!G113 -> 8456.4
A113: TYPE 5 | B113: ='4th FY 2026'!B114 -> 0 | C113: ='4th FY 2026'!C114 -> 0 | D113: ='1st FY 2027'!D113+'2nd FY 2026'!D113+'3rd FY 2026'!D114+'4th FY 2026'!D114 -> 13569352 | E113: ='1st FY 2027'!E113+'2nd FY 2026'!E113+'3rd FY 2026'!E114+'4th FY 2026'!E114 -> 10376128 | F113: ='1st FY 2027'!F113+'2nd FY 2026'!F113+'3rd FY 2026'!F114+'4th FY 2026'!F114 -> 3193223.8 | G113: ='1st FY 2027'!G113+'2nd FY 2026'!G113+'3rd FY 2026'!G114+'4th FY 2026'!G114 -> 1037797.8
...

Sheet 1st FY 2027
A1: ACADIA PARISH 01
A2: LIC | B2: NO OF | C2: NO OF | D2: DOLLARS | E2: DOLLARS | F2: NET DEV | G2: FRANCHISE
A3: TYPE | B3: VGD'S | C3: ESTAB | D3: IN | E3: OUT | F3: REVENUE | G3: FEES
A4: TYPE 1 | B4: 72 | C4: 21 | D4: 2464926.4 | E4: 1766360.7 | F4: =SUM(D4-E4) -> 698565.65 | G4: 181627.07
A5: TYPE 2 | B5: 36 | C5: 11 | D5: 812376.35 | E5: 602284.85 | F5: =SUM(D5-E5) -> 210091.5 | G5: 54623.79
A6: TYPE 5 | B6: 429 | C6: 9 | D6: 34036489 | E6: 25839933 | F6: =SUM(D6-E6) -> 8196555.9 | G6: 2663880.6
A7: TOTALS | B7: =SUM(B4:B6) -> 537 | C7: =SUM(C4:C6) -> 41 | D7: =SUM(D4:D6) -> 37313791 | E7: =SUM(E4:E6) -> 28208578 | F7: =SUM(F4:F6) -> 9105213 | G7: =SUM(G4:G6) -> 2900131.5
A9: ASSUMPTION PARISH 04
A10: LIC | B10: NO OF | C10: NO OF | D10: DOLLARS | E10: DOLLARS | F10: NET DEV | G10: FRANCHISE
A11: TYPE | B11: VGD'S | C11: ESTAB | D11: IN | E11: OUT | F11: REVENUE | G11: FEES
A12: TYPE 1 | B12: 28 | C12: 9 | D12: 733783 | E12: 553621.5 | F12: =SUM(D12-E12) -> 180161.5 | G12: 46841.99
A13: TYPE 2 | B13: 14 | C13: 5 | D13: 403058 | E13: 307551.2 | F13: =SUM(D13-E13) -> 95506.8 | G13: 24831.77
A14: TYPE 5 | B14: 110 | C14: 3 | D14: 7001526 | E14: 5096092.6 | F14: =SUM(D14-E14) -> 1905433.4 | G14: 619265.86
A15: TOTALS | B15: =SUM(B12:B14) -> 152 | C15: =SUM(C12:C14) -> 17 | D15: =SUM(D12:D14) -> 8138367 | E15: =SUM(E12:E14) -> 5957265.3 | F15: =SUM(F12:F14) -> 2181101.7 | G15: =SUM(G12:G14) -> 690939.62
A17: AVOYELLES PARISH 05
A18: LIC | B18: NO OF | C18: NO OF | D18: DOLLARS | E18: DOLLARS | F18: NET DEV | G18: FRANCHISE
A19: TYPE | B19: VGD'S | C19: ESTAB | D19: IN | E19: OUT | F19: REVENUE | G19: FEES
A20: TYPE 1 | B20: 21 | C20: 6 | D20: 978652 | E20: 694366.45 | F20: =SUM(D20-E20) -> 284285.55 | G20: 73914.24
A21: TYPE 2 | B21: 13 | C21: 4 | D21: 446022 | E21: 310669.85 | F21: =SUM(D21-E21) -> 135352.15 | G21: 35191.56
A22: TYPE 5 | B22: 76 | C22: 3 | D22: 6496503.7 | E22: 4797591.7 | F22: =SUM(D22-E22) -> 1698912 | G22: 552146.38
A23: TOTALS | B23: =SUM(B20:B22) -> 110 | C23: =SUM(C20:C22) -> 13 | D23: =SUM(D20:D22) -> 7921177.7 | E23: =SUM(E20:E22) -> 5802628 | F23: =SUM(F20:F22) -> 2118549.7 | G23: =SUM(G20:G22) -> 661252.18
A25: BOSSIER PARISH 08
A26: LIC | B26: NO OF | C26: NO OF | D26: DOLLARS | E26: DOLLARS | F26: NET DEV | G26: FRANCHISE
A27: TYPE | B27: VGD'S | C27: ESTAB | D27: IN | E27: OUT | F27: REVENUE | G27: FEES
A28: TYPE 1 | B28: 82 | C28: 25 | D28: 2362733.4 | E28: 1708578.4 | F28: =SUM(D28-E28) -> 654155 | G28: 170080.3
A29: TYPE 2 | B29: 35 | C29: 11 | D29: 1089992.1 | E29: 743086.15 | F29: =SUM(D29-E29) -> 346905.9 | G29: 90195.53
A30: TYPE 3 | B30: 11 | C30: 1 | D30: 314565.45 | E30: 239684.45 | F30: =SUM(D30-E30) -> 74881 | G30: 19469.06
A31: TYPE 5 | B31: 118 | C31: 4 | D31: 7345712.8 | E31: 5406263.2 | F31: =SUM(D31-E31) -> 1939449.6 | G31: 630321.12
A32: TOTALS | B32: =SUM(B28:B31) -> 246 | C32: =SUM(C28:C31) -> 41 | D32: =SUM(D28:D31) -> 11113004 | E32: =SUM(E28:E31) -> 8097612.2 | F32: =SUM(F28:F31) -> 3015391.5 | G32: =SUM(G28:G31) -> 910066.01
A34: CADDO PARISH 09
A35: LIC | B35: NO OF | C35: NO OF | D35: DOLLARS | E35: DOLLARS | F35: NET DEV | G35: FRANCHISE
A36: TYPE | B36: VGD'S | C36: ESTAB | D36: IN | E36: OUT | F36: REVENUE | G36: FEES
A37: TYPE 1 | B37: 147 | C37: 43 | D37: 5883752.2 | E37: 4311142.3 | F37: =SUM(D37-E37) -> 1572609.9 | G37: 408878.57
A38: TYPE 2 | B38: 45 | C38: 13 | D38: 1850897.2 | E38: 1286536.4 | F38: =SUM(D38-E38) -> 564360.8 | G38: 146733.81
A39: TYPE 3 | B39: 8 | C39: 1 | D39: 524144.7 | E39: 426471.2 | F39: =SUM(D39-E39) -> 97673.5 | G39: 25395.11
A40: TYPE 5 | B40: 540 | C40: 14 | D40: 36659585 | E40: 27916109 | F40: =SUM(D40-E40) -> 8743475.4 | G40: 2841629.5
A41: TOTALS | B41: =SUM(B37:B40) -> 740 | C41: =SUM(C37:C40) -> 71 | D41: =SUM(D37:D40) -> 44918379 | E41: =SUM(E37:E40) -> 33940259 | F41: =SUM(F37:F40) -> 10978120 | G41: =SUM(G37:G40) -> 3422637
A43: CALCASIEU PARISH 10
A44: LIC | B44: NO OF | C44: NO OF | D44: DOLLARS | E44: DOLLARS | F44: NET DEV | G44: FRANCHISE
A45: TYPE | B45: VGD'S | C45: ESTAB | D45: IN | E45: OUT | F45: REVENUE | G45: FEES
A46: TYPE 1 | B46: 161 | C46: 47 | D46: 6189305.6 | E46: 4376727.1 | F46: =SUM(D46-E46) -> 1812578.5 | G46: 471270.41
A47: TYPE 2 | B47: 44 | C47: 14 | D47: 1200110.4 | E47: 856246.85 | F47: =SUM(D47-E47) -> 343863.55 | G47: 89404.52
A48: TYPE 5 | B48: 801 | C48: 21 | D48: 51108523 | E48: 38213148 | F48: =SUM(D48-E48) -> 12895375 | G48: 4190996.9
A49: TOTALS | B49: =SUM(B46:B48) -> 1006 | C49: =SUM(C46:C48) -> 82 | D49: =SUM(D46:D48) -> 58497939 | E49: =SUM(E46:E48) -> 43446122 | F49: =SUM(F46:F48) -> 15051817 | G49: =SUM(G46:G48) -> 4751671.8
A51: CAMERON PARISH 12
A52: LIC | B52: NO OF | C52: NO OF | D52: DOLLARS | E52: DOLLARS | F52: NET DEV | G52: FRANCHISE
A53: TYPE | B53: VGD'S | C53: ESTAB | D53: IN | E53: OUT | F53: REVENUE | G53: FEES
A54: TYPE 1 | B54: 4 | C54: 1 | D54: 379843 | E54: 267591.35 | F54: =SUM(D54-E54) -> 112251.65 | G54: 29185.43
A55: TYPE 2 | B55: 6 | C55: 2 | D55: 56189 | E55: 38157.75 | F55: =SUM(D55-E55) -> 18031.25 | G55: 4688.13
A56: TYPE 3 | B56: 3 | C56: 1 | D56: 58508 | E56: 40037.3 | F56: =SUM(D56-E56) -> 18470.7 | G56: 4802.38
A57: TOTALS | B57: =SUM(B54:B56) -> 13 | C57: =SUM(C54:C56) -> 4 | D57: =SUM(D54:D56) -> 494540 | E57: =SUM(E54:E56) -> 345786.4 | F57: =SUM(F54:F56) -> 148753.6 | G57: =SUM(G54:G56) -> 38675.94
A59: DESOTO PARISH 16
A60: LIC | B60: NO OF | C60: NO OF | D60: DOLLARS | E60: DOLLARS | F60: NET DEV | G60: FRANCHISE
A61: TYPE | B61: VGD'S | C61: ESTAB | D61: IN | E61: OUT | F61: REVENUE | G61: FEES
A62: TYPE 1 | B62: 6 | C62: 2 | D62: 60059 | E62: 38386.1 | F62: =SUM(D62-E62) -> 21672.9 | G62: 5634.95
A63: TYPE 5 | B63: 179 | C63: 5 | D63: 11046805 | E63: 8383398.6 | F63: =SUM(D63-E63) -> 2663406.2 | G63: 865607.02
A64: TOTALS | B64: =SUM(B62:B63) -> 185 | C64: =SUM(C62:C63) -> 7 | D64: =SUM(D62:D63) -> 11106864 | E64: =SUM(E62:E63) -> 8421784.7 | F64: =SUM(F62:F63) -> 2685079.1 | G64: =SUM(G62:G63) -> 871241.97
A66: EAST CARROLL PARISH 18
A67: LIC | B67: NO OF | C67: NO OF | D67: DOLLARS | E67: DOLLARS | F67: NET DEV | G67: FRANCHISE
A68: TYPE | B68: VGD'S | C68: ESTAB | D68: IN | E68: OUT | F68: REVENUE | G68: FEES
A69: TYPE 1 | B69: 8 | C69: 2 | D69: 931754 | E69: 697502.7 | F69: =SUM(D69-E69) -> 234251.3 | G69: 60905.34
A70: TYPE 2
A71: TYPE 5 | B71: 20 | C71: 1 | D71: 1435024 | E71: 1093291.8 | F71: =SUM(D71-E71) -> 341732.25 | G71: 111062.98
A72: TOTALS | B72: =SUM(B69:B71) -> 28 | C72: =SUM(C69:C71) -> 3 | D72: =SUM(D69:D71) -> 2366778 | E72: =SUM(E69:E71) -> 1790794.4 | F72: =SUM(F69:F71) -> 575983.55 | G72: =SUM(G69:G71) -> 171968.32
A74: IBERVILLE PARISH 24
A75: LIC | B75: NO OF | C75: NO OF | D75: DOLLARS | E75: DOLLARS | F75: NET DEV | G75: FRANCHISE
A76: TYPE | B76: VGD'S | C76: ESTAB | D76: IN | E76: OUT | F76: REVENUE | G76: FEES
A77: TYPE 1 | B77: 46 | C77: 14 | D77: 2250785 | E77: 1601880.5 | F77: =SUM(D77-E77) -> 648904.5 | G77: 168715.17
A78: TYPE 2 | B78: 25 | C78: 8 | D78: 927757.1 | E78: 678438.55 | F78: =SUM(D78-E78) -> 249318.55 | G78: 64822.82
A79: TYPE 5 | B79: 146 | C79: 4 | D79: 18223223 | E79: 13819345 | F79: =SUM(D79-E79) -> 4403877.5 | G79: 1431260.2
A80: TOTALS | B80: =SUM(B77:B79) -> 217 | C80: =SUM(C77:C79) -> 26 | D80: =SUM(D77:D79) -> 21401765 | E80: =SUM(E77:E79) -> 16099664 | F80: =SUM(F77:F79) -> 5302100.6 | G80: =SUM(G77:G79) -> 1664798.2
A82: JEFFERSON PARISH 26
A83: LIC | B83: NO OF | C83: NO OF | D83: DOLLARS | E83: DOLLARS | F83: NET DEV | G83: FRANCHISE
A84: TYPE | B84: VGD'S | C84: ESTAB | D84: IN | E84: OUT | F84: REVENUE | G84: FEES
A85: TYPE 1 | B85: 604 | C85: 169 | D85: 32772468 | E85: 23405093 | F85: =SUM(D85-E85) -> 9367374.2 | G85: 2435517.3
A86: TYPE 2 | B86: 341 | C86: 110 | D86: 13529023 | E86: 9756771.8 | F86: =SUM(D86-E86) -> 3772251.6 | G86: 980785.4
A87: TYPE 4 | B87: 469 | C87: 5 | D87: 33183561 | E87: 26063097 | F87: =SUM(D87-E87) -> 7120464.4 | G87: 1281683.6
A88: TYPE 5 | B88: 242 | C88: 5 | D88: 24842293 | E88: 19099048 | F88: =SUM(D88-E88) -> 5743245 | G88: 1866554.6
A89: TOTALS | B89: =SUM(B85:B88) -> 1656 | C89: =SUM(C85:C88) -> 289 | D89: =SUM(D85:D88) -> 1.0432735e+08 | E89: =SUM(E85:E88) -> 78324010 | F89: =SUM(F85:F88) -> 26003335 | G89: =SUM(G85:G88) -> 6564540.9
A91: JEFFERSON DAVIS PARISH 27
A92: LIC | B92: NO OF | C92: NO OF | D92: DOLLARS | E92: DOLLARS | F92: NET DEV | G92: FRANCHISE
A93: TYPE | B93: VGD'S | C93: ESTAB | D93: IN | E93: OUT | F93: REVENUE | G93: FEES
A94: TYPE 1 | B94: 27 | C94: 7 | D94: 951195 | E94: 736039.25 | F94: =SUM(D94-E94) -> 215155.75 | G94: 55940.5
A95: TYPE 2 | B95: 9 | C95: 3 | D95: 177759 | E95: 120773.15 | F95: =SUM(D95-E95) -> 56985.85 | G95: 14816.32
A96: TYPE 5 | B96: 127 | C96: 3 | D96: 7727704 | E96: 5827601.7 | F96: =SUM(D96-E96) -> 1900102.3 | G96: 617533.25
A97: TOTALS | B97: =SUM(B94:B96) -> 163 | C97: =SUM(C94:C96) -> 13 | D97: =SUM(D94:D96) -> 8856658 | E97: =SUM(E94:E96) -> 6684414.1 | F97: =SUM(F94:F96) -> 2172243.9 | G97: =SUM(G94:G96) -> 688290.07
A99: LAFOURCHE PARISH 29
A100: LIC | B100: NO OF | C100: NO OF | D100: DOLLARS | E100: DOLLARS | F100: NET DEV | G100: FRANCHISE
A101: TYPE | B101: VGD'S | C101: ESTAB | D101: IN | E101: OUT | F101: REVENUE | G101: FEES
A102: TYPE 1 | B102: 117 | C102: 37 | D102: 3722643.2 | E102: 2704136.8 | F102: =SUM(D102-E102) -> 1018506.5 | G102: 264811.69
A103: TYPE 2 | B103: 30 | C103: 10 | D103: 504076 | E103: 351369.35 | F103: =SUM(D103-E103) -> 152706.65 | G103: 39703.73
A104: TYPE 3 | B104: 7 | C104: 1 | D104: 224788.4 | E104: 172681.25 | F104: =SUM(D104-E104) -> 52107.15 | G104: 13547.86
A105: TYPE 4 | B105: 41 | C105: 1 | D105: 1735314 | E105: 1375074.5 | F105: =SUM(D105-E105) -> 360239.5 | G105: 64843.11
A106: TYPE 5 | B106: 510 | C106: 12 | D106: 37706338 | E106: 28514773 | F106: =SUM(D106-E106) -> 9191565.2 | G106: 2987258.7
A107: TOTALS | B107: =SUM(B102:B106) -> 705 | C107: =SUM(C102:C106) -> 61 | D107: =SUM(D102:D106) -> 43893160 | E107: =SUM(E102:E106) -> 33118035 | F107: =SUM(F102:F106) -> 10775125 | G107: =SUM(G102:G106) -> 3370165.1
E108: 0
A109: MADISON PARISH 33
A110: LIC | B110: NO OF | C110: NO OF | D110: DOLLARS | E110: DOLLARS | F110: NET DEV | G110: FRANCHISE
A111: TYPE | B111: VGD'S | C111: ESTAB | D111: IN | E111: OUT | F111: REVENUE | G111: FEES
A112: TYPE 1 | B112: 6 | C112: 2 | D112: 159380.75 | E112: 126856.15 | F112: =SUM(D112-E112) -> 32524.6 | G112: 8456.4
...

Sheet 2nd FY 2026
A1: ACADIA PARISH 01
A2: LIC | B2: NO OF | C2: NO OF | D2: DOLLARS | E2: DOLLARS | F2: NET DEV | G2: FRANCHISE
A3: TYPE | B3: VGD'S | C3: ESTAB | D3: IN | E3: OUT | F3: REVENUE | G3: FEES
A4: TYPE 1 | F4: =SUM(D4-E4) -> 0
A5: TYPE 2 | F5: =SUM(D5-E5) -> 0
A6: TYPE 5 | F6: =SUM(D6-E6) -> 0
A7: TOTALS | B7: =SUM(B4:B6) -> 0 | C7: =SUM(C4:C6) -> 0 | D7: =SUM(D4:D6) -> 0 | E7: =SUM(E4:E6) -> 0 | F7: =SUM(F4:F6) -> 0 | G7: =SUM(G4:G6) -> 0
A9: ASSUMPTION PARISH 04
A10: LIC | B10: NO OF | C10: NO OF | D10: DOLLARS | E10: DOLLARS | F10: NET DEV | G10: FRANCHISE
A11: TYPE | B11: VGD'S | C11: ESTAB | D11: IN | E11: OUT | F11: REVENUE | G11: FEES
A12: TYPE 1 | F12: =SUM(D12-E12) -> 0
A13: TYPE 2 | F13: =SUM(D13-E13) -> 0
A14: TYPE 5 | F14: =SUM(D14-E14) -> 0
A15: TOTALS | B15: =SUM(B12:B14) -> 0 | C15: =SUM(C12:C14) -> 0 | D15: =SUM(D12:D14) -> 0 | E15: =SUM(E12:E14) -> 0 | F15: =SUM(F12:F14) -> 0 | G15: =SUM(G12:G14) -> 0
A17: AVOYELLES PARISH 05
A18: LIC | B18: NO OF | C18: NO OF | D18: DOLLARS | E18: DOLLARS | F18: NET DEV | G18: FRANCHISE
A19: TYPE | B19: VGD'S | C19: ESTAB | D19: IN | E19: OUT | F19: REVENUE | G19: FEES
A20: TYPE 1 | F20: =SUM(D20-E20) -> 0
A21: TYPE 2 | F21: =SUM(D21-E21) -> 0
A22: TYPE 5 | F22: =SUM(D22-E22) -> 0
A23: TOTALS | B23: =SUM(B20:B22) -> 0 | C23: =SUM(C20:C22) -> 0 | D23: =SUM(D20:D22) -> 0 | E23: =SUM(E20:E22) -> 0 | F23: =SUM(F20:F22) -> 0 | G23: =SUM(G20:G22) -> 0
A25: BOSSIER PARISH 08
A26: LIC | B26: NO OF | C26: NO OF | D26: DOLLARS | E26: DOLLARS | F26: NET DEV | G26: FRANCHISE
A27: TYPE | B27: VGD'S | C27: ESTAB | D27: IN | E27: OUT | F27: REVENUE | G27: FEES
A28: TYPE 1 | F28: =SUM(D28-E28) -> 0
A29: TYPE 2 | F29: =SUM(D29-E29) -> 0
A30: TYPE 3 | F30: =SUM(D30-E30) -> 0
A31: TYPE 5 | F31: =SUM(D31-E31) -> 0
A32: TOTALS | B32: =SUM(B28:B31) -> 0 | C32: =SUM(C28:C31) -> 0 | D32: =SUM(D28:D31) -> 0 | E32: =SUM(E28:E31) -> 0 | F32: =SUM(F28:F31) -> 0 | G32: =SUM(G28:G31) -> 0
A34: CADDO PARISH 09
A35: LIC | B35: NO OF | C35: NO OF | D35: DOLLARS | E35: DOLLARS | F35: NET DEV | G35: FRANCHISE
A36: TYPE | B36: VGD'S | C36: ESTAB | D36: IN | E36: OUT | F36: REVENUE | G36: FEES
A37: TYPE 1 | F37: =SUM(D37-E37) -> 0
A38: TYPE 2 | F38: =SUM(D38-E38) -> 0
A39: TYPE 3 | F39: =SUM(D39-E39) -> 0
A40: TYPE 5 | F40: =SUM(D40-E40) -> 0
A41: TOTALS | B41: =SUM(B37:B40) -> 0 | C41: =SUM(C37:C40) -> 0 | D41: =SUM(D37:D40) -> 0 | E41: =SUM(E37:E40) -> 0 | F41: =SUM(F37:F40) -> 0 | G41: =SUM(G37:G40) -> 0
A43: CALCASIEU PARISH 10
A44: LIC | B44: NO OF | C44: NO OF | D44: DOLLARS | E44: DOLLARS | F44: NET DEV | G44: FRANCHISE
A45: TYPE | B45: VGD'S | C45: ESTAB | D45: IN | E45: OUT | F45: REVENUE | G45: FEES
A46: TYPE 1 | F46: =SUM(D46-E46) -> 0
A47: TYPE 2 | F47: =SUM(D47-E47) -> 0
A48: TYPE 5 | F48: =SUM(D48-E48) -> 0
A49: TOTALS | B49: =SUM(B46:B48) -> 0 | C49: =SUM(C46:C48) -> 0 | D49: =SUM(D46:D48) -> 0 | E49: =SUM(E46:E48) -> 0 | F49: =SUM(F46:F48) -> 0 | G49: =SUM(G46:G48) -> 0
A51: CAMERON PARISH 12
A52: LIC | B52: NO OF | C52: NO OF | D52: DOLLARS | E52: DOLLARS | F52: NET DEV | G52: FRANCHISE
A53: TYPE | B53: VGD'S | C53: ESTAB | D53: IN | E53: OUT | F53: REVENUE | G53: FEES
A54: TYPE 1 | F54: =SUM(D54-E54) -> 0
A55: TYPE 2 | F55: =SUM(D55-E55) -> 0
A56: TYPE 3 | F56: =SUM(D56-E56) -> 0
A57: TOTALS | B57: =SUM(B54:B56) -> 0 | C57: =SUM(C54:C56) -> 0 | D57: =SUM(D54:D56) -> 0 | E57: =SUM(E54:E56) -> 0 | F57: =SUM(F54:F56) -> 0 | G57: =SUM(G54:G56) -> 0
A59: DESOTO PARISH 16
A60: LIC | B60: NO OF | C60: NO OF | D60: DOLLARS | E60: DOLLARS | F60: NET DEV | G60: FRANCHISE
A61: TYPE | B61: VGD'S | C61: ESTAB | D61: IN | E61: OUT | F61: REVENUE | G61: FEES
A62: TYPE 1 | F62: =SUM(D62-E62) -> 0
A63: TYPE 5 | F63: =SUM(D63-E63) -> 0
A64: TOTALS | B64: =SUM(B62:B63) -> 0 | C64: =SUM(C62:C63) -> 0 | D64: =SUM(D62:D63) -> 0 | E64: =SUM(E62:E63) -> 0 | F64: =SUM(F62:F63) -> 0 | G64: =SUM(G62:G63) -> 0
A66: EAST CARROLL PARISH 18
A67: LIC | B67: NO OF | C67: NO OF | D67: DOLLARS | E67: DOLLARS | F67: NET DEV | G67: FRANCHISE
A68: TYPE | B68: VGD'S | C68: ESTAB | D68: IN | E68: OUT | F68: REVENUE | G68: FEES
A69: TYPE 1 | F69: =SUM(D69-E69) -> 0
A70: TYPE 2 | F70: =SUM(D70-E70) -> 0
A71: TYPE 5 | F71: =SUM(D71-E71) -> 0
A72: TOTALS | B72: =SUM(B69:B71) -> 0 | C72: =SUM(C69:C71) -> 0 | D72: =SUM(D69:D71) -> 0 | E72: =SUM(E69:E71) -> 0 | F72: =SUM(F69:F71) -> 0 | G72: =SUM(G69:G71) -> 0
A74: IBERVILLE PARISH 24
A75: LIC | B75: NO OF | C75: NO OF | D75: DOLLARS | E75: DOLLARS | F75: NET DEV | G75: FRANCHISE
A76: TYPE | B76: VGD'S | C76: ESTAB | D76: IN | E76: OUT | F76: REVENUE | G76: FEES
A77: TYPE 1 | F77: =SUM(D77-E77) -> 0
A78: TYPE 2 | F78: =SUM(D78-E78) -> 0
A79: TYPE 5 | F79: =SUM(D79-E79) -> 0
A80: TOTALS | B80: =SUM(B77:B79) -> 0 | C80: =SUM(C77:C79) -> 0 | D80: =SUM(D77:D79) -> 0 | E80: =SUM(E77:E79) -> 0 | F80: =SUM(F77:F79) -> 0 | G80: =SUM(G77:G79) -> 0
A82: JEFFERSON PARISH 26
A83: LIC | B83: NO OF | C83: NO OF | D83: DOLLARS | E83: DOLLARS | F83: NET DEV | G83: FRANCHISE
A84: TYPE | B84: VGD'S | C84: ESTAB | D84: IN | E84: OUT | F84: REVENUE | G84: FEES
A85: TYPE 1 | F85: =SUM(D85-E85) -> 0
A86: TYPE 2 | F86: =SUM(D86-E86) -> 0
A87: TYPE 4 | F87: =SUM(D87-E87) -> 0
A88: TYPE 5 | F88: =SUM(D88-E88) -> 0
A89: TOTALS | B89: =SUM(B85:B88) -> 0 | C89: =SUM(C85:C88) -> 0 | D89: =SUM(D85:D88) -> 0 | E89: =SUM(E85:E88) -> 0 | F89: =SUM(F85:F88) -> 0 | G89: =SUM(G85:G88) -> 0
A91: JEFFERSON DAVIS PARISH 27
A92: LIC | B92: NO OF | C92: NO OF | D92: DOLLARS | E92: DOLLARS | F92: NET DEV | G92: FRANCHISE
A93: TYPE | B93: VGD'S | C93: ESTAB | D93: IN | E93: OUT | F93: REVENUE | G93: FEES
A94: TYPE 1 | F94: =SUM(D94-E94) -> 0
A95: TYPE 2 | F95: =SUM(D95-E95) -> 0
A96: TYPE 5 | F96: =SUM(D96-E96) -> 0
A97: TOTALS | B97: =SUM(B94:B96) -> 0 | C97: =SUM(C94:C96) -> 0 | D97: =SUM(D94:D96) -> 0 | E97: =SUM(E94:E96) -> 0 | F97: =SUM(F94:F96) -> 0 | G97: =SUM(G94:G96) -> 0
A99: LAFOURCHE PARISH 29
A100: LIC | B100: NO OF | C100: NO OF | D100: DOLLARS | E100: DOLLARS | F100: NET DEV | G100: FRANCHISE
A101: TYPE | B101: VGD'S | C101: ESTAB | D101: IN | E101: OUT | F101: REVENUE | G101: FEES
A102: TYPE 1 | F102: =SUM(D102-E102) -> 0
A103: TYPE 2 | F103: =SUM(D103-E103) -> 0
A104: TYPE 3 | F104: =SUM(D104-E104) -> 0
A105: TYPE 4 | F105: =SUM(D105-E105) -> 0
A106: TYPE 5 | F106: =SUM(D106-E106) -> 0
A107: TOTALS | B107: =SUM(B102:B106) -> 0 | C107: =SUM(C102:C106) -> 0 | D107: =SUM(D102:D106) -> 0 | E107: =SUM(E102:E106) -> 0 | F107: =SUM(F102:F106) -> 0 | G107: =SUM(G102:G106) -> 0
A109: MADISON PARISH 33
A110: LIC | B110: NO OF | C110: NO OF | D110: DOLLARS | E110: DOLLARS | F110: NET DEV | G110: FRANCHISE
A111: TYPE | B111: VGD'S | C111: ESTAB | D111: IN | E111: OUT | F111: REVENUE | G111: FEES
A112: TYPE 1 | F112: =SUM(D112-E112) -> 0
A113: TYPE 5 | F113: =SUM(D113-E113) -> 0
...

Sheet 3rd FY 2026
A1: ACADIA PARISH 01
A2: LIC | B2: NO OF | C2: NO OF | D2: DOLLARS | E2: DOLLARS | F2: NET DEV | G2: FRANCHISE
A3: TYPE | B3: VGD'S | C3: ESTAB | D3: IN | E3: OUT | F3: REVENUE | G3: FEES
A4: TYPE 1 | F4: =SUM(D4-E4) -> 0 | G4: =SUM(F4*0.26) -> 0
A5: TYPE 2 | F5: =SUM(D5-E5) -> 0 | G5: =SUM(F5*0.26) -> 0
A6: TYPE 5 | F6: =SUM(D6-E6) -> 0 | G6: =SUM(F6*0.325) -> 0
A7: TOTALS | B7: =SUM(B4:B6) -> 0 | C7: =SUM(C4:C6) -> 0 | D7: =SUM(D4:D6) -> 0 | E7: =SUM(E4:E6) -> 0 | F7: =SUM(F4:F6) -> 0 | G7: =SUM(G4:G6) -> 0
A9: ASSUMPTION PARISH 04
A10: LIC | B10: NO OF | C10: NO OF | D10: DOLLARS | E10: DOLLARS | F10: NET DEV | G10: FRANCHISE
A11: TYPE | B11: VGD'S | C11: ESTAB | D11: IN | E11: OUT | F11: REVENUE | G11: FEES
A12: TYPE 1 | F12: =SUM(D12-E12) -> 0 | G12: =SUM(F12*0.26) -> 0
A13: TYPE 2 | F13: =SUM(D13-E13) -> 0 | G13: =SUM(F13*0.26) -> 0
A14: TYPE 5 | F14: =SUM(D14-E14) -> 0 | G14: =SUM(F14*0.325) -> 0
A15: TOTALS | B15: =SUM(B12:B14) -> 0 | C15: =SUM(C12:C14) -> 0 | D15: =SUM(D12:D14) -> 0 | E15: =SUM(E12:E14) -> 0 | F15: =SUM(F12:F14) -> 0 | G15: =SUM(G12:G14) -> 0
A17: AVOYELLES PARISH 05
A18: LIC | B18: NO OF | C18: NO OF | D18: DOLLARS | E18: DOLLARS | F18: NET DEV | G18: FRANCHISE
A19: TYPE | B19: VGD'S | C19: ESTAB | D19: IN | E19: OUT | F19: REVENUE | G19: FEES
A20: TYPE 1 | F20: =SUM(D20-E20) -> 0 | G20: =SUM(F20*0.26) -> 0
A21: TYPE 2 | F21: =SUM(D21-E21) -> 0 | G21: =SUM(F21*0.26) -> 0
A22: TYPE 5 | F22: =SUM(D22-E22) -> 0 | G22: =SUM(F22*0.325) -> 0
A23: TOTALS | B23: =SUM(B20:B22) -> 0 | C23: =SUM(C20:C22) -> 0 | D23: =SUM(D20:D22) -> 0 | E23: =SUM(E20:E22) -> 0 | F23: =SUM(F20:F22) -> 0 | G23: =SUM(G20:G22) -> 0
A25: BOSSIER PARISH 08
A26: LIC | B26: NO OF | C26: NO OF | D26: DOLLARS | E26: DOLLARS | F26: NET DEV | G26: FRANCHISE
A27: TYPE | B27: VGD'S | C27: ESTAB | D27: IN | E27: OUT | F27: REVENUE | G27: FEES
A28: TYPE 1 | F28: =SUM(D28-E28) -> 0 | G28: =SUM(F28*0.26) -> 0
A29: TYPE 2 | F29: =SUM(D29-E29) -> 0 | G29: =SUM(F29*0.26) -> 0
A30: TYPE 3 | F30: =SUM(D30-E30) -> 0 | G30: =SUM(F30*0.26) -> 0
A31: TYPE 5 | F31: =SUM(D31-E31) -> 0 | G31: =SUM(F31*0.325) -> 0
A32: TOTALS | B32: =SUM(B28:B31) -> 0 | C32: =SUM(C28:C31) -> 0 | D32: =SUM(D28:D31) -> 0 | E32: =SUM(E28:E31) -> 0 | F32: =SUM(F28:F31) -> 0 | G32: =SUM(G28:G31) -> 0
A34: CADDO PARISH 09
A35: LIC | B35: NO OF | C35: NO OF | D35: DOLLARS | E35: DOLLARS | F35: NET DEV | G35: FRANCHISE
A36: TYPE | B36: VGD'S | C36: ESTAB | D36: IN | E36: OUT | F36: REVENUE | G36: FEES
A37: TYPE 1 | F37: =SUM(D37-E37) -> 0 | G37: =SUM(F37*0.26) -> 0
A38: TYPE 2 | F38: =SUM(D38-E38) -> 0 | G38: =SUM(F38*0.26) -> 0
A39: TYPE 3 | F39: =SUM(D39-E39) -> 0 | G39: =SUM(F39*0.26) -> 0
A40: TYPE 5 | F40: =SUM(D40-E40) -> 0 | G40: =SUM(F40*0.325) -> 0
A41: TOTALS | B41: =SUM(B37:B40) -> 0 | C41: =SUM(C37:C40) -> 0 | D41: =SUM(D37:D40) -> 0 | E41: =SUM(E37:E40) -> 0 | F41: =SUM(F37:F40) -> 0 | G41: =SUM(G37:G40) -> 0
A43: CALCASIEU PARISH 10
A44: LIC | B44: NO OF | C44: NO OF | D44: DOLLARS | E44: DOLLARS | F44: NET DEV | G44: FRANCHISE
A45: TYPE | B45: VGD'S | C45: ESTAB | D45: IN | E45: OUT | F45: REVENUE | G45: FEES
A46: TYPE 1 | F46: =SUM(D46-E46) -> 0 | G46: =SUM(F46*0.26) -> 0
A47: TYPE 2 | F47: =SUM(D47-E47) -> 0 | G47: =SUM(F47*0.26) -> 0
A48: TYPE 5 | F48: =SUM(D48-E48) -> 0 | G48: =SUM(F48*0.325) -> 0
A49: TOTALS | B49: =SUM(B46:B48) -> 0 | C49: =SUM(C46:C48) -> 0 | D49: =SUM(D46:D48) -> 0 | E49: =SUM(E46:E48) -> 0 | F49: =SUM(F46:F48) -> 0 | G49: =SUM(G46:G48) -> 0
A51: CAMERON PARISH 12
A52: LIC | B52: NO OF | C52: NO OF | D52: DOLLARS | E52: DOLLARS | F52: NET DEV | G52: FRANCHISE
A53: TYPE | B53: VGD'S | C53: ESTAB | D53: IN | E53: OUT | F53: REVENUE | G53: FEES
A54: TYPE 1 | F54: =SUM(D54-E54) -> 0 | G54: =SUM(F54*0.26) -> 0
A55: TYPE 2 | F55: =SUM(D55-E55) -> 0 | G55: =SUM(F55*0.26) -> 0
A56: TYPE 3 | F56: =SUM(D56-E56) -> 0 | G56: =SUM(F56*0.26) -> 0
A57: TOTALS | B57: =SUM(B54:B56) -> 0 | C57: =SUM(C54:C56) -> 0 | D57: =SUM(D54:D56) -> 0 | E57: =SUM(E54:E56) -> 0 | F57: =SUM(F54:F56) -> 0 | G57: =SUM(G54:G56) -> 0
A59: DESOTO PARISH 16
A60: LIC | B60: NO OF | C60: NO OF | D60: DOLLARS | E60: DOLLARS | F60: NET DEV | G60: FRANCHISE
A61: TYPE | B61: VGD'S | C61: ESTAB | D61: IN | E61: OUT | F61: REVENUE | G61: FEES
A62: TYPE 1 | F62: =SUM(D62-E62) -> 0 | G62: =SUM(F62*0.26) -> 0
A63: TYPE 5 | F63: =SUM(D63-E63) -> 0 | G63: =SUM(F63*0.325) -> 0
A64: TOTALS | B64: =SUM(B62:B63) -> 0 | C64: =SUM(C62:C63) -> 0 | D64: =SUM(D62:D63) -> 0 | E64: =SUM(E62:E63) -> 0 | F64: =SUM(F62:F63) -> 0 | G64: =SUM(G62:G63) -> 0
A66: EAST CARROLL PARISH 18
A67: LIC | B67: NO OF | C67: NO OF | D67: DOLLARS | E67: DOLLARS | F67: NET DEV | G67: FRANCHISE
A68: TYPE | B68: VGD'S | C68: ESTAB | D68: IN | E68: OUT | F68: REVENUE | G68: FEES
A69: TYPE 1 | F69: =SUM(D69-E69) -> 0 | G69: =SUM(F69*0.26) -> 0
A70: TYPE 2 | F70: =SUM(D70-E70) -> 0 | G70: =SUM(F70*0.26) -> 0
A71: TYPE 5 | F71: =SUM(D71-E71) -> 0 | G71: =SUM(F71*0.325) -> 0
A72: TOTALS | B72: =SUM(B69:B71) -> 0 | C72: =SUM(C69:C71) -> 0 | D72: =SUM(D69:D71) -> 0 | E72: =SUM(E69:E71) -> 0 | F72: =SUM(F69:F71) -> 0 | G72: =SUM(G69:G71) -> 0
A74: IBERVILLE PARISH 24
A75: LIC | B75: NO OF | C75: NO OF | D75: DOLLARS | E75: DOLLARS | F75: NET DEV | G75: FRANCHISE
A76: TYPE | B76: VGD'S | C76: ESTAB | D76: IN | E76: OUT | F76: REVENUE | G76: FEES
A77: TYPE 1 | F77: =SUM(D77-E77) -> 0 | G77: =SUM(F77*0.26) -> 0
A78: TYPE 2 | F78: =SUM(D78-E78) -> 0 | G78: =SUM(F78*0.26) -> 0
A79: TYPE 5 | F79: =SUM(D79-E79) -> 0 | G79: =SUM(F79*0.325) -> 0
A80: TOTALS | B80: =SUM(B77:B79) -> 0 | C80: =SUM(C77:C79) -> 0 | D80: =SUM(D77:D79) -> 0 | E80: =SUM(E77:E79) -> 0 | F80: =SUM(F77:F79) -> 0 | G80: =SUM(G77:G79) -> 0
A82: JEFFERSON PARISH 26
A83: LIC | B83: NO OF | C83: NO OF | D83: DOLLARS | E83: DOLLARS | F83: NET DEV | G83: FRANCHISE
A84: TYPE | B84: VGD'S | C84: ESTAB | D84: IN | E84: OUT | F84: REVENUE | G84: FEES
A85: TYPE 1 | G85: =SUM(F85*0.26) -> 0
A86: TYPE 2 | G86: =SUM(F86*0.26) -> 0
A87: TYPE 3
A88: TYPE 4 | G88: =SUM(F88*0.18) -> 0
A89: TYPE 5 | G89: =SUM(F89*0.325) -> 0
A90: TOTALS | B90: =SUM(B85:B89) -> 0 | C90: =SUM(C85:C89) -> 0 | D90: =SUM(D85:D89) -> 0 | E90: =SUM(E85:E89) -> 0 | F90: =SUM(F85:F89) -> 0 | G90: =SUM(G85:G89) -> 0
A92: JEFFERSON DAVIS PARISH 27
A93: LIC | B93: NO OF | C93: NO OF | D93: DOLLARS | E93: DOLLARS | F93: NET DEV | G93: FRANCHISE
A94: TYPE | B94: VGD'S | C94: ESTAB | D94: IN | E94: OUT | F94: REVENUE | G94: FEES
A95: TYPE 1 | F95: =SUM(D95-E95) -> 0 | G95: =SUM(F95*0.26) -> 0
A96: TYPE 2 | F96: =SUM(D96-E96) -> 0 | G96: =SUM(F96*0.26) -> 0
A97: TYPE 5 | F97: =SUM(D97-E97) -> 0 | G97: =SUM(F97*0.325) -> 0
A98: TOTALS | B98: =SUM(B95:B97) -> 0 | C98: =SUM(C95:C97) -> 0 | D98: =SUM(D95:D97) -> 0 | E98: =SUM(E95:E97) -> 0 | F98: =SUM(F95:F97) -> 0 | G98: =SUM(G95:G97) -> 0
A100: LAFOURCHE PARISH 29
A101: LIC | B101: NO OF | C101: NO OF | D101: DOLLARS | E101: DOLLARS | F101: NET DEV | G101: FRANCHISE
A102: TYPE | B102: VGD'S | C102: ESTAB | D102: IN | E102: OUT | F102: REVENUE | G102: FEES
A103: TYPE 1 | F103: =SUM(D103-E103) -> 0 | G103: =SUM(F103*0.26) -> 0
A104: TYPE 2 | F104: =SUM(D104-E104) -> 0 | G104: =SUM(F104*0.26) -> 0
A105: TYPE 3 | F105: =SUM(D105-E105) -> 0 | G105: =SUM(F105*0.26) -> 0
A106: TYPE 4 | F106: =SUM(D106-E106) -> 0 | G106: =SUM(F106*0.18) -> 0
A107: TYPE 5 | F107: =SUM(D107-E107) -> 0 | G107: =SUM(F107*0.325) -> 0
A108: TOTALS | B108: =SUM(B103:B107) -> 0 | C108: =SUM(C103:C107) -> 0 | D108: =SUM(D103:D107) -> 0 | E108: =SUM(E103:E107) -> 0 | F108: =SUM(F103:F107) -> 0 | G108: =SUM(G103:G107) -> 0
A110: MADISON PARISH 33
A111: LIC | B111: NO OF | C111: NO OF | D111: DOLLARS | E111: DOLLARS | F111: NET DEV | G111: FRANCHISE
A112: TYPE | B112: VGD'S | C112: ESTAB | D112: IN | E112: OUT | F112: REVENUE | G112: FEES
A113: TYPE 1 | F113: =SUM(D113-E113) -> 0 | G113: =SUM(F113*0.26) -> 0
...

Sheet 4th FY 2026
A1: ACADIA PARISH 01
A2: LIC | B2: NO OF | C2: NO OF | D2: DOLLARS | E2: DOLLARS | F2: NET DEV | G2: FRANCHISE
A3: TYPE | B3: VGD'S | C3: ESTAB | D3: IN | E3: OUT | F3: REVENUE | G3: FEES
A4: TYPE 1 | F4: =SUM(D4-E4) -> 0 | G4: =SUM(F4*0.26) -> 0
A5: TYPE 2 | F5: =SUM(D5-E5) -> 0 | G5: =SUM(F5*0.26) -> 0
A6: TYPE 5 | F6: =SUM(D6-E6) -> 0 | G6: =SUM(F6*0.325) -> 0
A7: TOTALS | B7: =SUM(B4:B6) -> 0 | C7: =SUM(C4:C6) -> 0 | D7: =SUM(D4:D6) -> 0 | E7: =SUM(E4:E6) -> 0 | F7: =SUM(F4:F6) -> 0 | G7: =SUM(G4:G6) -> 0
A9: ASSUMPTION PARISH 04
A10: LIC | B10: NO OF | C10: NO OF | D10: DOLLARS | E10: DOLLARS | F10: NET DEV | G10: FRANCHISE
A11: TYPE | B11: VGD'S | C11: ESTAB | D11: IN | E11: OUT | F11: REVENUE | G11: FEES
A12: TYPE 1 | F12: =SUM(D12-E12) -> 0 | G12: =SUM(F12*0.26) -> 0
A13: TYPE 2 | F13: =SUM(D13-E13) -> 0 | G13: =SUM(F13*0.26) -> 0
A14: TYPE 5 | F14: =SUM(D14-E14) -> 0 | G14: =SUM(F14*0.325) -> 0
A15: TOTALS | B15: =SUM(B12:B14) -> 0 | C15: =SUM(C12:C14) -> 0 | D15: =SUM(D12:D14) -> 0 | E15: =SUM(E12:E14) -> 0 | F15: =SUM(F12:F14) -> 0 | G15: =SUM(G12:G14) -> 0
A17: AVOYELLES PARISH 05
A18: LIC | B18: NO OF | C18: NO OF | D18: DOLLARS | E18: DOLLARS | F18: NET DEV | G18: FRANCHISE
A19: TYPE | B19: VGD'S | C19: ESTAB | D19: IN | E19: OUT | F19: REVENUE | G19: FEES
A20: TYPE 1 | F20: =SUM(D20-E20) -> 0 | G20: =SUM(F20*0.26) -> 0
A21: TYPE 2 | F21: =SUM(D21-E21) -> 0 | G21: =SUM(F21*0.26) -> 0
A22: TYPE 5 | F22: =SUM(D22-E22) -> 0 | G22: =SUM(F22*0.325) -> 0
A23: TOTALS | B23: =SUM(B20:B22) -> 0 | C23: =SUM(C20:C22) -> 0 | D23: =SUM(D20:D22) -> 0 | E23: =SUM(E20:E22) -> 0 | F23: =SUM(F20:F22) -> 0 | G23: =SUM(G20:G22) -> 0
A25: BOSSIER PARISH 08
A26: LIC | B26: NO OF | C26: NO OF | D26: DOLLARS | E26: DOLLARS | F26: NET DEV | G26: FRANCHISE
A27: TYPE | B27: VGD'S | C27: ESTAB | D27: IN | E27: OUT | F27: REVENUE | G27: FEES
A28: TYPE 1 | F28: =SUM(D28-E28) -> 0 | G28: =SUM(F28*0.26) -> 0
A29: TYPE 2 | F29: =SUM(D29-E29) -> 0 | G29: =SUM(F29*0.26) -> 0
A30: TYPE 3 | F30: =SUM(D30-E30) -> 0 | G30: =SUM(F30*0.26) -> 0
A31: TYPE 5 | F31: =SUM(D31-E31) -> 0 | G31: =SUM(F31*0.325) -> 0
A32: TOTALS | B32: =SUM(B28:B31) -> 0 | C32: =SUM(C28:C31) -> 0 | D32: =SUM(D28:D31) -> 0 | E32: =SUM(E28:E31) -> 0 | F32: =SUM(F28:F31) -> 0 | G32: =SUM(G28:G31) -> 0
A34: CADDO PARISH 09
A35: LIC | B35: NO OF | C35: NO OF | D35: DOLLARS | E35: DOLLARS | F35: NET DEV | G35: FRANCHISE
A36: TYPE | B36: VGD'S | C36: ESTAB | D36: IN | E36: OUT | F36: REVENUE | G36: FEES
A37: TYPE 1 | F37: =SUM(D37-E37) -> 0 | G37: =SUM(F37*0.26) -> 0
A38: TYPE 2 | F38: =SUM(D38-E38) -> 0 | G38: =SUM(F38*0.26) -> 0
A39: TYPE 3 | F39: =SUM(D39-E39) -> 0 | G39: =SUM(F39*0.26) -> 0
A40: TYPE 5 | F40: =SUM(D40-E40) -> 0 | G40: =SUM(F40*0.325) -> 0
A41: TOTALS | B41: =SUM(B37:B40) -> 0 | C41: =SUM(C37:C40) -> 0 | D41: =SUM(D37:D40) -> 0 | E41: =SUM(E37:E40) -> 0 | F41: =SUM(F37:F40) -> 0 | G41: =SUM(G37:G40) -> 0
A43: CALCASIEU PARISH 10
A44: LIC | B44: NO OF | C44: NO OF | D44: DOLLARS | E44: DOLLARS | F44: NET DEV | G44: FRANCHISE
A45: TYPE | B45: VGD'S | C45: ESTAB | D45: IN | E45: OUT | F45: REVENUE | G45: FEES
A46: TYPE 1 | F46: =SUM(D46-E46) -> 0 | G46: =SUM(F46*0.26) -> 0
A47: TYPE 2 | F47: =SUM(D47-E47) -> 0 | G47: =SUM(F47*0.26) -> 0
A48: TYPE 5 | F48: =SUM(D48-E48) -> 0 | G48: =SUM(F48*0.325) -> 0
A49: TOTALS | F49: =SUM(F46:F48) -> 0 | G49: =SUM(G46:G48) -> 0
A51: CAMERON PARISH 12
A52: LIC | B52: NO OF | C52: NO OF | D52: DOLLARS | E52: DOLLARS | F52: NET DEV | G52: FRANCHISE
A53: TYPE | B53: VGD'S | C53: ESTAB | D53: IN | E53: OUT | F53: REVENUE | G53: FEES
A54: TYPE 1 | F54: =SUM(D54-E54) -> 0 | G54: =SUM(F54*0.26) -> 0
A55: TYPE 2 | F55: =SUM(D55-E55) -> 0 | G55: =SUM(F55*0.26) -> 0
A56: TYPE 3 | F56: =SUM(D56-E56) -> 0 | G56: =SUM(F56*0.26) -> 0
A57: TOTALS | B57: =SUM(B54:B56) -> 0 | C57: =SUM(C54:C56) -> 0 | D57: =SUM(D54:D56) -> 0 | E57: =SUM(E54:E56) -> 0 | F57: =SUM(F54:F56) -> 0 | G57: =SUM(G54:G56) -> 0
A59: DESOTO PARISH 16
A60: LIC | B60: NO OF | C60: NO OF | D60: DOLLARS | E60: DOLLARS | F60: NET DEV | G60: FRANCHISE
A61: TYPE | B61: VGD'S | C61: ESTAB | D61: IN | E61: OUT | F61: REVENUE | G61: FEES
A62: TYPE 1 | F62: =SUM(D62-E62) -> 0 | G62: =SUM(F62*0.26) -> 0
A63: TYPE 5 | F63: =SUM(D63-E63) -> 0 | G63: =SUM(F63*0.325) -> 0
A64: TOTALS | B64: =SUM(B62:B63) -> 0 | C64: =SUM(C62:C63) -> 0 | D64: =SUM(D62:D63) -> 0 | E64: =SUM(E62:E63) -> 0 | F64: =SUM(F62:F63) -> 0 | G64: =SUM(G62:G63) -> 0
A66: EAST CARROLL PARISH 18
A67: LIC | B67: NO OF | C67: NO OF | D67: DOLLARS | E67: DOLLARS | F67: NET DEV | G67: FRANCHISE
A68: TYPE | B68: VGD'S | C68: ESTAB | D68: IN | E68: OUT | F68: REVENUE | G68: FEES
A69: TYPE 1 | F69: =SUM(D69-E69) -> 0 | G69: =SUM(F69*0.26) -> 0
A70: TYPE 2 | F70: =SUM(D70-E70) -> 0 | G70: =SUM(F70*0.26) -> 0
A71: TYPE 5 | F71: =SUM(D71-E71) -> 0 | G71: =SUM(F71*0.325) -> 0
A72: TOTALS | B72: =SUM(B69:B71) -> 0 | C72: =SUM(C69:C71) -> 0 | D72: =SUM(D69:D71) -> 0 | E72: =SUM(E69:E71) -> 0 | F72: =SUM(F69:F71) -> 0 | G72: =SUM(G69:G71) -> 0
A74: IBERVILLE PARISH 24
A75: LIC | B75: NO OF | C75: NO OF | D75: DOLLARS | E75: DOLLARS | F75: NET DEV | G75: FRANCHISE
A76: TYPE | B76: VGD'S | C76: ESTAB | D76: IN | E76: OUT | F76: REVENUE | G76: FEES
A77: TYPE 1 | F77: =SUM(D77-E77) -> 0 | G77: =SUM(F77*0.26) -> 0
A78: TYPE 2 | F78: =SUM(D78-E78) -> 0 | G78: =SUM(F78*0.26) -> 0
A79: TYPE 5 | F79: =SUM(D79-E79) -> 0 | G79: =SUM(F79*0.325) -> 0
A80: TOTALS | B80: =SUM(B77:B79) -> 0 | C80: =SUM(C77:C79) -> 0 | D80: =SUM(D77:D79) -> 0 | E80: =SUM(E77:E79) -> 0 | F80: =SUM(F77:F79) -> 0 | G80: =SUM(G77:G79) -> 0
A82: JEFFERSON PARISH 26
A83: LIC | B83: NO OF | C83: NO OF | D83: DOLLARS | E83: DOLLARS | F83: NET DEV | G83: FRANCHISE
A84: TYPE | B84: VGD'S | C84: ESTAB | D84: IN | E84: OUT | F84: REVENUE | G84: FEES
A85: TYPE 1
A86: TYPE 2
A87: TYPE 3
A88: TYPE 4
A89: TYPE 5
A90: TOTALS | B90: =SUM(B85:B89) -> 0 | C90: =SUM(C85:C89) -> 0 | D90: =SUM(D85:D89) -> 0 | E90: =SUM(E85:E89) -> 0 | F90: =SUM(F85:F89) -> 0 | G90: =SUM(G85:G89) -> 0
A92: JEFFERSON DAVIS PARISH 27
A93: LIC | B93: NO OF | C93: NO OF | D93: DOLLARS | E93: DOLLARS | F93: NET DEV | G93: FRANCHISE
A94: TYPE | B94: VGD'S | C94: ESTAB | D94: IN | E94: OUT | F94: REVENUE | G94: FEES
A95: TYPE 1 | G95: =SUM(F95*0.26) -> 0
A96: TYPE 2 | G96: =SUM(F96*0.26) -> 0
A97: TYPE 5 | G97: =SUM(F97*0.325) -> 0
A98: TOTALS | B98: =SUM(B95:B97) -> 0 | C98: =SUM(C95:C97) -> 0 | D98: =SUM(D95:D97) -> 0 | E98: =SUM(E95:E97) -> 0 | F98: =SUM(F95:F97) -> 0 | G98: =SUM(G95:G97) -> 0
A100: LAFOURCHE PARISH 29
A101: LIC | B101: NO OF | C101: NO OF | D101: DOLLARS | E101: DOLLARS | F101: NET DEV | G101: FRANCHISE
A102: TYPE | B102: VGD'S | C102: ESTAB | D102: IN | E102: OUT | F102: REVENUE | G102: FEES
A103: TYPE 1 | F103: =SUM(D103-E103) -> 0 | G103: =SUM(F103*0.26) -> 0
A104: TYPE 2 | F104: =SUM(D104-E104) -> 0 | G104: =SUM(F104*0.26) -> 0
A105: TYPE 3 | F105: =SUM(D105-E105) -> 0 | G105: =SUM(F105*0.26) -> 0
A106: TYPE 4 | F106: =SUM(D106-E106) -> 0 | G106: =SUM(F106*0.18) -> 0
A107: TYPE 5 | F107: =SUM(D107-E107) -> 0 | G107: =SUM(F107*0.325) -> 0
A108: TOTALS | B108: =SUM(B103:B107) -> 0 | C108: =SUM(C103:C107) -> 0 | D108: =SUM(D103:D107) -> 0 | E108: =SUM(E103:E107) -> 0 | F108: =SUM(F103:F107) -> 0 | G108: =SUM(G103:G107) -> 0
A110: MADISON PARISH 33
A111: LIC | B111: NO OF | C111: NO OF | D111: DOLLARS | E111: DOLLARS | F111: NET DEV | G111: FRANCHISE
A112: TYPE | B112: VGD'S | C112: ESTAB | D112: IN | E112: OUT | F112: REVENUE | G112: FEES
A113: TYPE 1 | F113: =SUM(D113-E113) -> 0 | G113: =SUM(F113*0.26) -> 0
...
