Workbook

Sheet 2027
A1: ACADIA PARISH 01
A2: LIC | B2: NO OF | C2: NO OF | D2: DOLLARS | E2: DOLLARS | F2: NET DEV | G2: FRANCHISE
A3: TYPE | B3: VGD'S | C3: ESTAB | D3: IN | E3: OUT | F3: REVENUE | G3: FEES
A4: TYPE 1 | B4: ='4th FY 2026'!B4 -> 0 | C4: ='4th FY 2026'!C4 -> 0 | D4: ='1st FY 2027'!D4+'2nd FY 2026'!D4+'3rd FY 2026'!D4+'4th FY 2026'!D4 -> 2464926.4 | E4: ='1st FY 2027'!E4+'2nd FY 2026'!E4+'3rd FY 2026'!E4+'4th FY 2026'!E4 -> 1766360.7 | F4: ='1st FY 2027'!F4+'2nd FY 2026'!F4+'3rd FY 2026'!F4+'4th FY 2026'!F4 -> 698565.65 | G4: ='1st FY 2027'!G4+'2nd FY 2026'!G4+'3rd FY 2026'!G4+'4th FY 2026'!G4 -> 181627.07
A5: TYPE 2 | B5: ='4th FY 2026'!B5 -> 0 | C5: ='4th FY 2026'!C5 -> 0 | D5: ='1st FY 2027'!D5+'2nd FY 2026'!D5+'3rd FY 2026'!D5+'4th FY 2026'!D5 -> 812376.35 | E5: ='1st FY 2027'!E5+'2nd FY 2026'!E5+'3rd FY 2026'!E5+'4th FY 2026'!E5 -> 602284.85 | F5: ='1st FY 2027'!F5+'2nd FY 2026'!F5+'3rd FY 2026'!F5+'4th FY 2026'!F5 -> 210091.5 | G5: ='1st FY 2027'!G5+'2nd FY 2026'!G5+'3rd FY 2026'!G5+'4th FY 2026'!G5 -> 54623.79
A6: TYPE 5 | B6: ='4th FY 2026'!B6 -> 0 | C6: ='4th FY 2026'!C6 -> 0 | D6: ='1st FY 2027'!D6+'2nd FY 2026'!D6+'3rd FY 2026'!D6+'4th FY 2026'!D6 -> 34036489 | E6: ='1st FY 2027'!E6+'2nd FY 2026'!E6+'3rd FY 2026'!E6+'4th FY 2026'!E6 -> 25839933 | F6: ='1st FY 2027'!F6+'2nd FY 2026'!F6+'3rd FY 2026'!F6+'4th FY 2026'!F6 -> 8196555.9 | G6: ='1st FY 2027'!G6+'2nd FY 2026'!G6+'3rd FY 2026'!G6+'4th FY 2026'!G6 -> 2663880.6
A7: TOTALS | B7: =SUM(B4:B6) -> 0 | C7: =SUM(C4:C6) -> 0 | D7: =SUM(D4:D6) -> 37313791 | E7: =SUM(E4:E6) -> 28208578 | F7: =SUM(F4:F6) -> 9105213 | G7: =SUM(G4:G6) -> 2900131.5
A9: ASSUMPTION PARISH 04
A10: LIC | B10: NO OF | C10: NO OF | D10: DOLLARS | E10: DOLLARS | F10: NET DEV | G10: FRANCHISE
A11: TYPE | B11: VGD'S | C11: ESTAB | D11: IN | E11: OUT | F11: REVENUE | G11: FEES
A12: TYPE 1 | B12: ='4th FY 2026'!B12 -> 0 | C12: ='4th FY 2026'!C12 -> 0 | D12: ='1st FY 2027'!D12+'2nd FY 2026'!D12+'3rd FY 2026'!D12+'4th FY 2026'!D12 -> 733783 | E12: ='1st FY 2027'!E12+'2nd FY 2026'!E12+'3rd FY 2026'!E12+'4th FY 2026'!E12 -> 553621.5 | F12: ='1st FY 2027'!F12+'2nd FY 2026'!F12+'3rd FY 2026'!F12+'4th FY 2026'!F12 -> 180161.5 | G12: ='1st FY 2027'!G12+'2nd FY 2026'!G12+'3rd FY 2026'!G12+'4th FY 2026'!G12 -> 46841.99
A13: TYPE 2 | B13: ='4th FY 2026'!B13 -> 0 | C13: ='4th FY 2026'!C13 -> 0 | D13: ='1st FY 2027'!D13+'2nd FY 2026'!D13+'3rd FY 2026'!D13+'4th FY 2026'!D13 -> 403058 | E13: ='1st FY 2027'!E13+'2nd FY 2026'!E13+'3rd FY 2026'!E13+'4th FY 2026'!E13 -> 307551.2 | F13: ='1st FY 2027'!F13+'2nd FY 2026'!F13+'3rd FY 2026'!F13+'4th FY 2026'!F13 -> 95506.8 | G13: ='1st FY 2027'!G13+'2nd FY 2026'!G13+'3rd FY 2026'!G13+'4th FY 2026'!G13 -> 24831.77
A14: TYPE 5 | B14: ='4th FY 2026'!B14 -> 0 | C14: ='4th FY 2026'!C14 -> 0 | D14: ='1st FY 2027'!D14+'2nd FY 2026'!D14+'3rd FY 2026'!D14+'4th FY 2026'!D14 -> 7001526 | E14: ='1st FY 2027'!E14+'2nd FY 2026'!E14+'3rd FY 2026'!E14+'4th FY 2026'!E14 -> 5096092.6 | F14: ='1st FY 2027'!F14+'2nd FY 2026'!F14+'3rd FY 2026'!F14+'4th FY 2026'!F14 -> 1905433.4 | G14: ='1st FY 2027'!G14+'2nd FY 2026'!G14+'3rd FY 2026'!G14+'4th FY 2026'!G14 -> 619265.86
A15: TOTALS | B15: =SUM(B12:B14) -> 0 | C15: =SUM(C12:C14) -> 0 | D15: =SUM(D12:D14) -> 8138367 | E15: =SUM(E12:E14) -> 5957265.3 | F15: =SUM(F12:F14) -> 2181101.7 | G15: =SUM(G12:G14) -> 690939.62
A17: AVOYELLES PARISH 05
A18: LIC | B18: NO OF | C18: NO OF | D18: DOLLARS | E18: DOLLARS | F18: NET DEV | G18: FRANCHISE
A19: TYPE | B19: VGD'S | C19: ESTAB | D19: IN | E19: OUT | F19: REVENUE | G19: FEES
A20: TYPE 1 | B20: ='4th FY 2026'!B20 -> 0 | C20: ='4th FY 2026'!C20 -> 0 | D20: ='1st FY 2027'!D20+'2nd FY 2026'!D20+'3rd FY 2026'!D20+'4th FY 2026'!D20 -> 978652 | E20: ='1st FY 2027'!E20+'2nd FY 2026'!E20+'3rd FY 2026'!E20+'4th FY 2026'!E20 -> 694366.45 | F20: ='1st FY 2027'!F20+'2nd FY 2026'!F20+'3rd FY 2026'!F20+'4th FY 2026'!F20 -> 284285.55 | G20: ='1st FY 2027'!G20+'2nd FY 2026'!G20+'3rd FY 2026'!G20+'4th FY 2026'!G20 -> 73914.24
A21: TYPE 2 | B21: ='4th FY 2026'!B21 -> 0 | C21: ='4th FY 2026'!C21 -> 0 | D21: ='1st FY 2027'!D21+'2nd FY 2026'!D21+'3rd FY 2026'!D21+'4th FY 2026'!D21 -> 446022 | E21: ='1st FY 2027'!E21+'2nd FY 2026'!E21+'3rd FY 2026'!E21+'4th FY 2026'!E21 -> 310669.85 | F21: ='1st FY 2027'!F21+'2nd FY 2026'!F21+'3rd FY 2026'!F21+'4th FY 2026'!F21 -> 135352.15 | G21: ='1st FY 2027'!G21+'2nd FY 2026'!G21+'3rd FY 2026'!G21+'4th FY 2026'!G21 -> 35191.56
A22: TYPE 5 | B22: ='4th FY 2026'!B22 -> 0 | C22: ='4th FY 2026'!C22 -> 0 | D22: ='1st FY 2027'!D22+'2nd FY 2026'!D22+'3rd FY 2026'!D22+'4th FY 2026'!D22 -> 6496503.7 | E22: ='1st FY 2027'!E22+'2nd FY 2026'!E22+'3rd FY 2026'!E22+'4th FY 2026'!E22 -> 4797591.7 | F22: ='1st FY 2027'!F22+'2nd FY 2026'!F22+'3rd FY 2026'!F22+'4th FY 2026'!F22 -> 1698912 | G22: ='1st FY 2027'!G22+'2nd FY 2026'!G22+'3rd FY 2026'!G22+'4th FY 2026'!G22 -> 552146.38
A23: TOTALS | B23: =SUM(B20:B22) -> 0 | C23: =SUM(C20:C22) -> 0 | D23: =SUM(D20:D22) -> 7921177.7 | E23: =SUM(E20:E22) -> 5802628 | F23: =SUM(F20:F22) -> 2118549.7 | G23: =SUM(G20:G22) -> 661252.18
A25: BOSSIER PARISH 08
A26: LIC | B26: NO OF | C26: NO OF | D26: DOLLARS | E26: DOLLARS | F26: NET DEV | G26: FRANCHISE
A27: TYPE | B27: VGD'S | C27: ESTAB | D27: IN | E27: OUT | F27: REVENUE | G27: FEES
A28: TYPE 1 | B28: ='4th FY 2026'!B28 -> 0 | C28: ='4th FY 2026'!C28 -> 0 | D28: ='1st FY 2027'!D28+'2nd FY 2026'!D28+'3rd FY 2026'!D28+'4th FY 2026'!D28 -> 2362733.4 | E28: ='1st FY 2027'!E28+'2nd FY 2026'!E28+'3rd FY 2026'!E28+'4th FY 2026'!E28 -> 1708578.4 | F28: ='1st FY 2027'!F28+'2nd FY 2026'!F28+'3rd FY 2026'!F28+'4th FY 2026'!F28 -> 654155 | G28: ='1st FY 2027'!G28+'2nd FY 2026'!G28+'3rd FY 2026'!G28+'4th FY 2026'!G28 -> 170080.3
A29: TYPE 2 | B29: ='4th FY 2026'!B29 -> 0 | C29: ='4th FY 2026'!C29 -> 0 | D29: ='1st FY 2027'!D29+'2nd FY 2026'!D29+'3rd FY 2026'!D29+'4th FY 2026'!D29 -> 1089992.1 | E29: ='1st FY 2027'!E29+'2nd FY 2026'!E29+'3rd FY 2026'!E29+'4th FY 2026'!E29 -> 743086.15 | F29: ='1st FY 2027'!F29+'2nd FY 2026'!F29+'3rd FY 2026'!F29+'4th FY 2026'!F29 -> 346905.9 | G29: ='1st FY 2027'!G29+'2nd FY 2026'!G29+'3rd FY 2026'!G29+'4th FY 2026'!G29 -> 90195.53
A30: TYPE 3 | B30: ='4th FY 2026'!B30 -> 0 | C30: ='4th FY 2026'!C30 -> 0 | D30: ='1st FY 2027'!D30+'2nd FY 2026'!D30+'3rd FY 2026'!D30+'4th FY 2026'!D30 -> 314565.45 | E30: ='1st FY 2027'!E30+'2nd FY 2026'!E30+'3rd FY 2026'!E30+'4th FY 2026'!E30 -> 239684.45 | F30: ='1st FY 2027'!F30+'2nd FY 2026'!F30+'3rd FY 2026'!F30+'4th FY 2026'!F30 -> 74881 | G30: ='1st FY 2027'!G30+'2nd FY 2026'!G30+'3rd FY 2026'!G30+'4th FY 2026'!G30 -> 19469.06
A31: TYPE 5 | B31: ='4th FY 2026'!B31 -> 0 | C31: ='4th FY 2026'!C31 -> 0 | D31: ='1st FY 2027'!D31+'2nd FY 2026'!D31+'3rd FY 2026'!D31+'4th FY 2026'!D31 -> 7345712.8 | E31: ='1st FY 2027'!E31+'2nd FY 2026'!E31+'3rd FY 2026'!E31+'4th FY 2026'!E31 -> 5406263.2 | F31: ='1st FY 2027'!F31+'2nd FY 2026'!F31+'3rd FY 2026'!F31+'4th FY 2026'!F31 -> 1939449.6 | G31: ='1st FY 2027'!G31+'2nd FY 2026'!G31+'3rd FY 2026'!G31+'4th FY 2026'!G31 -> 630321.12
A32: TOTALS | B32: =SUM(B28:B31) -> 0 | C32: =SUM(C28:C31) -> 0 | D32: =SUM(D28:D31) -> 11113004 | E32: =SUM(E28:E31) -> 8097612.2 | F32: =SUM(F28:F31) -> 3015391.5 | G32: =SUM(G28:G31) -> 910066.01
A34: CADDO PARISH 09
A35: LIC | B35: NO OF | C35: NO OF | D35: DOLLARS | E35: DOLLARS | F35: NET DEV | G35: FRANCHISE
A36: TYPE | B36: VGD'S | C36: ESTAB | D36: IN | E36: OUT | F36: REVENUE | G36: FEES
A37: TYPE 1 | B37: ='4th FY 2026'!B37 -> 0 | C37: ='4th FY 2026'!C37 -> 0 | D37: ='1st FY 2027'!D37+'2nd FY 2026'!D37+'3rd FY 2026'!D37+'4th FY 2026'!D37 -> 5883752.2 | E37: ='1st FY 2027'!E37+'2nd FY 2026'!E37+'3rd FY 2026'!E37+'4th FY 2026'!E37 -> 4311142.3 | F37: ='1st FY 2027'!F37+'2nd FY 2026'!F37+'3rd FY 2026'!F37+'4th FY 2026'!F37 -> 1572609.9 | G37: ='1st FY 2027'!G37+'2nd FY 2026'!G37+'3rd FY 2026'!G37+'4th FY 2026'!G37 -> 408878.57
A38: TYPE 2 | B38: ='4th FY 2026'!B38 -> 0 | C38: ='4th FY 2026'!C38 -> 0 | D38: ='1st FY 2027'!D38+'2nd FY 2026'!D38+'3rd FY 2026'!D38+'4th FY 2026'!D38 -> 1850897.2 | E38: ='1st FY 2027'!E38+'2nd FY 2026'!E38+'3rd FY 2026'!E38+'4th FY 2026'!E38 -> 1286536.4 | F38: ='1st FY 2027'!F38+'2nd FY 2026'!F38+'3rd FY 2026'!F38+'4th FY 2026'!F38 -> 564360.8 | G38: ='1st FY 2027'!G38+'2nd FY 2026'!G38+'3rd FY 2026'!G38+'4th FY 2026'!G38 -> 146733.81
A39: TYPE 3 | B39: ='4th FY 2026'!B39 -> 0 | C39: ='4th FY 2026'!C39 -> 0 | D39: ='1st FY 2027'!D39+'2nd FY 2026'!D39+'3rd FY 2026'!D39+'4th FY 2026'!D39 -> 524144.7 | E39: ='1st FY 2027'!E39+'2nd FY 2026'!E39+'3rd FY 2026'!E39+'4th FY 2026'!E39 -> 426471.2 | F39: ='1st FY 2027'!F39+'2nd FY 2026'!F39+'3rd FY 2026'!F39+'4th FY 2026'!F39 -> 97673.5 | G39: ='1st FY 2027'!G39+'2nd FY 2026'!G39+'3rd FY 2026'!G39+'4th FY 2026'!G39 -> 25395.11
A40: TYPE 5 | B40: ='4th FY 2026'!B40 -> 0 | C40: ='4th FY 2026'!C40 -> 0 | D40: ='1st FY 2027'!D40+'2nd FY 2026'!D40+'3rd FY 2026'!D40+'4th FY 2026'!D40 -> 36659585 | E40: ='1st FY 2027'!E40+'2nd FY 2026'!E40+'3rd FY 2026'!E40+'4th FY 2026'!E40 -> 27916109 | F40: ='1st FY 2027'!F40+'2nd FY 2026'!F40+'3rd FY 2026'!F40+'4th FY 2026'!F40 -> 8743475.4 | G40: ='1st FY 2027'!G40+'2nd FY 2026'!G40+'3rd FY 2026'!G40+'4th FY 2026'!G40 -> 2841629.5
A41: TOTALS | B41: =SUM(B37:B40) -> 0 | C41: =SUM(C37:C40) -> 0 | D41: =SUM(D37:D40) -> 44918379 | E41: =SUM(E37:E40) -> 33940259 | F41: =SUM(F37:F40) -> 10978120 | G41: =SUM(G37:G40) -> 3422637
A43: CALCASIEU PARISH 10
A44: LIC | B44: NO OF | C44: NO OF | D44: DOLLARS | E44: DOLLARS | F44: NET DEV | G44: FRANCHISE
A45: TYPE | B45: VGD'S | C45: ESTAB | D45: IN | E45: OUT | F45: REVENUE | G45: FEES
...

Sheet 1st FY 2027
A1: ACADIA PARISH 01
A2: LIC | B2: NO OF | C2: NO OF | D2: DOLLARS | E2: DOLLARS | F2: NET DEV | G2: FRANCHISE
A3: TYPE | B3: VGD'S | C3: ESTAB | D3: IN | E3: OUT | F3: REVENUE | G3: FEES
A4: TYPE 1 | B4: 72 | C4: 21 | D4: 2464926.4 | E4: 1766360.7 | F4: =SUM(D4-E4) -> 698565.65 | G4: 181627.07
A5: TYPE 2 | B5: 36 | C5: 11 | D5: 812376.35 | E5: 602284.85 | F5: =SUM(D5-E5) -> 210091.5 | G5: 54623.79
A6: TYPE 5 | B6: 429 | C6: 9 | D6: 34036489 | E6: 25839933 | F6: =SUM(D6-E6) -> 8196555.9 | G6: 2663880.6
A7: TOTALS | B7: =SUM(B4:B6) -> 537 | C7: =SUM(C4:C6) -> 41 | D7: =SUM(D4:D6) -> 37313791 | E7: =SUM(E4:E6) -> 28208578 | F7: =SUM(F4:F6) -> 9105213 | G7: =SUM(G4:G6) -> 2900131.5
A9: ASSUMPTION PARISH 04
A10: LIC | B10: NO OF | C10: NO OF | D10: DOLLARS | E10: DOLLARS | F10: NET DEV | G10: FRANCHISE
A11: TYPE | B11: VGD'S | C11: ESTAB | D11: IN | E11: OUT | F11: REVENUE | G11: FEES
A12: TYPE 1 | B12: 28 | C12: 9 | D12: 733783 | E12: 553621.5 | F12: =SUM(D12-E12) -> 180161.5 | G12: 46841.99
A13: TYPE 2 | B13: 14 | C13: 5 | D13: 403058 | E13: 307551.2 | F13: =SUM(D13-E13) -> 95506.8 | G13: 24831.77
A14: TYPE 5 | B14: 110 | C14: 3 | D14: 7001526 | E14: 5096092.6 | F14: =SUM(D14-E14) -> 1905433.4 | G14: 619265.86
A15: TOTALS | B15: =SUM(B12:B14) -> 152 | C15: =SUM(C12:C14) -> 17 | D15: =SUM(D12:D14) -> 8138367 | E15: =SUM(E12:E14) -> 5957265.3 | F15: =SUM(F12:F14) -> 2181101.7 | G15: =SUM(G12:G14) -> 690939.62
A17: AVOYELLES PARISH 05
A18: LIC | B18: NO OF | C18: NO OF | D18: DOLLARS | E18: DOLLARS | F18: NET DEV | G18: FRANCHISE
A19: TYPE | B19: VGD'S | C19: ESTAB | D19: IN | E19: OUT | F19: REVENUE | G19: FEES
A20: TYPE 1 | B20: 21 | C20: 6 | D20: 978652 | E20: 694366.45 | F20: =SUM(D20-E20) -> 284285.55 | G20: 73914.24
A21: TYPE 2 | B21: 13 | C21: 4 | D21: 446022 | E21: 310669.85 | F21: =SUM(D21-E21) -> 135352.15 | G21: 35191.56
A22: TYPE 5 | B22: 76 | C22: 3 | D22: 6496503.7 | E22: 4797591.7 | F22: =SUM(D22-E22) -> 1698912 | G22: 552146.38
A23: TOTALS | B23: =SUM(B20:B22) -> 110 | C23: =SUM(C20:C22) -> 13 | D23: =SUM(D20:D22) -> 7921177.7 | E23: =SUM(E20:E22) -> 5802628 | F23: =SUM(F20:F22) -> 2118549.7 | G23: =SUM(G20:G22) -> 661252.18
A25: BOSSIER PARISH 08
A26: LIC | B26: NO OF | C26: NO OF | D26: DOLLARS | E26: DOLLARS | F26: NET DEV | G26: FRANCHISE
A27: TYPE | B27: VGD'S | C27: ESTAB | D27: IN | E27: OUT | F27: REVENUE | G27: FEES
A28: TYPE 1 | B28: 82 | C28: 25 | D28: 2362733.4 | E28: 1708578.4 | F28: =SUM(D28-E28) -> 654155 | G28: 170080.3
A29: TYPE 2 | B29: 35 | C29: 11 | D29: 1089992.1 | E29: 743086.15 | F29: =SUM(D29-E29) -> 346905.9 | G29: 90195.53
A30: TYPE 3 | B30: 11 | C30: 1 | D30: 314565.45 | E30: 239684.45 | F30: =SUM(D30-E30) -> 74881 | G30: 19469.06
A31: TYPE 5 | B31: 118 | C31: 4 | D31: 7345712.8 | E31: 5406263.2 | F31: =SUM(D31-E31) -> 1939449.6 | G31: 630321.12
A32: TOTALS | B32: =SUM(B28:B31) -> 246 | C32: =SUM(C28:C31) -> 41 | D32: =SUM(D28:D31) -> 11113004 | E32: =SUM(E28:E31) -> 8097612.2 | F32: =SUM(F28:F31) -> 3015391.5 | G32: =SUM(G28:G31) -> 910066.01
A34: CADDO PARISH 09
A35: LIC | B35: NO OF | C35: NO OF | D35: DOLLARS | E35: DOLLARS | F35: NET DEV | G35: FRANCHISE
A36: TYPE | B36: VGD'S | C36: ESTAB | D36: IN | E36: OUT | F36: REVENUE | G36: FEES
A37: TYPE 1 | B37: 147 | C37: 43 | D37: 5883752.2 | E37: 4311142.3 | F37: =SUM(D37-E37) -> 1572609.9 | G37: 408878.57
A38: TYPE 2 | B38: 45 | C38: 13 | D38: 1850897.2 | E38: 1286536.4 | F38: =SUM(D38-E38) -> 564360.8 | G38: 146733.81
A39: TYPE 3 | B39: 8 | C39: 1 | D39: 524144.7 | E39: 426471.2 | F39: =SUM(D39-E39) -> 97673.5 | G39: 25395.11
A40: TYPE 5 | B40: 540 | C40: 14 | D40: 36659585 | E40: 27916109 | F40: =SUM(D40-E40) -> 8743475.4 | G40: 2841629.5
A41: TOTALS | B41: =SUM(B37:B40) -> 740 | C41: =SUM(C37:C40) -> 71 | D41: =SUM(D37:D40) -> 44918379 | E41: =SUM(E37:E40) -> 33940259 | F41: =SUM(F37:F40) -> 10978120 | G41: =SUM(G37:G40) -> 3422637
A43: CALCASIEU PARISH 10
A44: LIC | B44: NO OF | C44: NO OF | D44: DOLLARS | E44: DOLLARS | F44: NET DEV | G44: FRANCHISE
A45: TYPE | B45: VGD'S | C45: ESTAB | D45: IN | E45: OUT | F45: REVENUE | G45: FEES
...

Sheet 2nd FY 2026
A1: ACADIA PARISH 01
A2: LIC | B2: NO OF | C2: NO OF | D2: DOLLARS | E2: DOLLARS | F2: NET DEV | G2: FRANCHISE
A3: TYPE | B3: VGD'S | C3: ESTAB | D3: IN | E3: OUT | F3: REVENUE | G3: FEES
A4: TYPE 1 | F4: =SUM(D4-E4) -> 0
A5: TYPE 2 | F5: =SUM(D5-E5) -> 0
A6: TYPE 5 | F6: =SUM(D6-E6) -> 0
A7: TOTALS | B7: =SUM(B4:B6) -> 0 | C7: =SUM(C4:C6) -> 0 | D7: =SUM(D4:D6) -> 0 | E7: =SUM(E4:E6) -> 0 | F7: =SUM(F4:F6) -> 0 | G7: =SUM(G4:G6) -> 0
A9: ASSUMPTION PARISH 04
A10: LIC | B10: NO OF | C10: NO OF | D10: DOLLARS | E10: DOLLARS | F10: NET DEV | G10: FRANCHISE
A11: TYPE | B11: VGD'S | C11: ESTAB | D11: IN | E11: OUT | F11: REVENUE | G11: FEES
A12: TYPE 1 | F12: =SUM(D12-E12) -> 0
A13: TYPE 2 | F13: =SUM(D13-E13) -> 0
A14: TYPE 5 | F14: =SUM(D14-E14) -> 0
A15: TOTALS | B15: =SUM(B12:B14) -> 0 | C15: =SUM(C12:C14) -> 0 | D15: =SUM(D12:D14) -> 0 | E15: =SUM(E12:E14) -> 0 | F15: =SUM(F12:F14) -> 0 | G15: =SUM(G12:G14) -> 0
A17: AVOYELLES PARISH 05
A18: LIC | B18: NO OF | C18: NO OF | D18: DOLLARS | E18: DOLLARS | F18: NET DEV | G18: FRANCHISE
A19: TYPE | B19: VGD'S | C19: ESTAB | D19: IN | E19: OUT | F19: REVENUE | G19: FEES
A20: TYPE 1 | F20: =SUM(D20-E20) -> 0
A21: TYPE 2 | F21: =SUM(D21-E21) -> 0
A22: TYPE 5 | F22: =SUM(D22-E22) -> 0
A23: TOTALS | B23: =SUM(B20:B22) -> 0 | C23: =SUM(C20:C22) -> 0 | D23: =SUM(D20:D22) -> 0 | E23: =SUM(E20:E22) -> 0 | F23: =SUM(F20:F22) -> 0 | G23: =SUM(G20:G22) -> 0
A25: BOSSIER PARISH 08
A26: LIC | B26: NO OF | C26: NO OF | D26: DOLLARS | E26: DOLLARS | F26: NET DEV | G26: FRANCHISE
A27: TYPE | B27: VGD'S | C27: ESTAB | D27: IN | E27: OUT | F27: REVENUE | G27: FEES
A28: TYPE 1 | F28: =SUM(D28-E28) -> 0
A29: TYPE 2 | F29: =SUM(D29-E29) -> 0
A30: TYPE 3 | F30: =SUM(D30-E30) -> 0
A31: TYPE 5 | F31: =SUM(D31-E31) -> 0
A32: TOTALS | B32: =SUM(B28:B31) -> 0 | C32: =SUM(C28:C31) -> 0 | D32: =SUM(D28:D31) -> 0 | E32: =SUM(E28:E31) -> 0 | F32: =SUM(F28:F31) -> 0 | G32: =SUM(G28:G31) -> 0
A34: CADDO PARISH 09
A35: LIC | B35: NO OF | C35: NO OF | D35: DOLLARS | E35: DOLLARS | F35: NET DEV | G35: FRANCHISE
A36: TYPE | B36: VGD'S | C36: ESTAB | D36: IN | E36: OUT | F36: REVENUE | G36: FEES
A37: TYPE 1 | F37: =SUM(D37-E37) -> 0
A38: TYPE 2 | F38: =SUM(D38-E38) -> 0
A39: TYPE 3 | F39: =SUM(D39-E39) -> 0
A40: TYPE 5 | F40: =SUM(D40-E40) -> 0
A41: TOTALS | B41: =SUM(B37:B40) -> 0 | C41: =SUM(C37:C40) -> 0 | D41: =SUM(D37:D40) -> 0 | E41: =SUM(E37:E40) -> 0 | F41: =SUM(F37:F40) -> 0 | G41: =SUM(G37:G40) -> 0
A43: CALCASIEU PARISH 10
A44: LIC | B44: NO OF | C44: NO OF | D44: DOLLARS | E44: DOLLARS | F44: NET DEV | G44: FRANCHISE
A45: TYPE | B45: VGD'S | C45: ESTAB | D45: IN | E45: OUT | F45: REVENUE | G45: FEES
...

Sheet 3rd FY 2026
A1: ACADIA PARISH 01
A2: LIC | B2: NO OF | C2: NO OF | D2: DOLLARS | E2: DOLLARS | F2: NET DEV | G2: FRANCHISE
A3: TYPE | B3: VGD'S | C3: ESTAB | D3: IN | E3: OUT | F3: REVENUE | G3: FEES
A4: TYPE 1 | F4: =SUM(D4-E4) -> 0 | G4: =SUM(F4*0.26) -> 0
A5: TYPE 2 | F5: =SUM(D5-E5) -> 0 | G5: =SUM(F5*0.26) -> 0
A6: TYPE 5 | F6: =SUM(D6-E6) -> 0 | G6: =SUM(F6*0.325) -> 0
A7: TOTALS | B7: =SUM(B4:B6) -> 0 | C7: =SUM(C4:C6) -> 0 | D7: =SUM(D4:D6) -> 0 | E7: =SUM(E4:E6) -> 0 | F7: =SUM(F4:F6) -> 0 | G7: =SUM(G4:G6) -> 0
A9: ASSUMPTION PARISH 04
A10: LIC | B10: NO OF | C10: NO OF | D10: DOLLARS | E10: DOLLARS | F10: NET DEV | G10: FRANCHISE
A11: TYPE | B11: VGD'S | C11: ESTAB | D11: IN | E11: OUT | F11: REVENUE | G11: FEES
A12: TYPE 1 | F12: =SUM(D12-E12) -> 0 | G12: =SUM(F12*0.26) -> 0
A13: TYPE 2 | F13: =SUM(D13-E13) -> 0 | G13: =SUM(F13*0.26) -> 0
A14: TYPE 5 | F14: =SUM(D14-E14) -> 0 | G14: =SUM(F14*0.325) -> 0
A15: TOTALS | B15: =SUM(B12:B14) -> 0 | C15: =SUM(C12:C14) -> 0 | D15: =SUM(D12:D14) -> 0 | E15: =SUM(E12:E14) -> 0 | F15: =SUM(F12:F14) -> 0 | G15: =SUM(G12:G14) -> 0
A17: AVOYELLES PARISH 05
A18: LIC | B18: NO OF | C18: NO OF | D18: DOLLARS | E18: DOLLARS | F18: NET DEV | G18: FRANCHISE
A19: TYPE | B19: VGD'S | C19: ESTAB | D19: IN | E19: OUT | F19: REVENUE | G19: FEES
A20: TYPE 1 | F20: =SUM(D20-E20) -> 0 | G20: =SUM(F20*0.26) -> 0
A21: TYPE 2 | F21: =SUM(D21-E21) -> 0 | G21: =SUM(F21*0.26) -> 0
A22: TYPE 5 | F22: =SUM(D22-E22) -> 0 | G22: =SUM(F22*0.325) -> 0
A23: TOTALS | B23: =SUM(B20:B22) -> 0 | C23: =SUM(C20:C22) -> 0 | D23: =SUM(D20:D22) -> 0 | E23: =SUM(E20:E22) -> 0 | F23: =SUM(F20:F22) -> 0 | G23: =SUM(G20:G22) -> 0
A25: BOSSIER PARISH 08
A26: LIC | B26: NO OF | C26: NO OF | D26: DOLLARS | E26: DOLLARS | F26: NET DEV | G26: FRANCHISE
A27: TYPE | B27: VGD'S | C27: ESTAB | D27: IN | E27: OUT | F27: REVENUE | G27: FEES
A28: TYPE 1 | F28: =SUM(D28-E28) -> 0 | G28: =SUM(F28*0.26) -> 0
A29: TYPE 2 | F29: =SUM(D29-E29) -> 0 | G29: =SUM(F29*0.26) -> 0
A30: TYPE 3 | F30: =SUM(D30-E30) -> 0 | G30: =SUM(F30*0.26) -> 0
A31: TYPE 5 | F31: =SUM(D31-E31) -> 0 | G31: =SUM(F31*0.325) -> 0
A32: TOTALS | B32: =SUM(B28:B31) -> 0 | C32: =SUM(C28:C31) -> 0 | D32: =SUM(D28:D31) -> 0 | E32: =SUM(E28:E31) -> 0 | F32: =SUM(F28:F31) -> 0 | G32: =SUM(G28:G31) -> 0
A34: CADDO PARISH 09
A35: LIC | B35: NO OF | C35: NO OF | D35: DOLLARS | E35: DOLLARS | F35: NET DEV | G35: FRANCHISE
A36: TYPE | B36: VGD'S | C36: ESTAB | D36: IN | E36: OUT | F36: REVENUE | G36: FEES
A37: TYPE 1 | F37: =SUM(D37-E37) -> 0 | G37: =SUM(F37*0.26) -> 0
A38: TYPE 2 | F38: =SUM(D38-E38) -> 0 | G38: =SUM(F38*0.26) -> 0
A39: TYPE 3 | F39: =SUM(D39-E39) -> 0 | G39: =SUM(F39*0.26) -> 0
A40: TYPE 5 | F40: =SUM(D40-E40) -> 0 | G40: =SUM(F40*0.325) -> 0
A41: TOTALS | B41: =SUM(B37:B40) -> 0 | C41: =SUM(C37:C40) -> 0 | D41: =SUM(D37:D40) -> 0 | E41: =SUM(E37:E40) -> 0 | F41: =SUM(F37:F40) -> 0 | G41: =SUM(G37:G40) -> 0
A43: CALCASIEU PARISH 10
A44: LIC | B44: NO OF | C44: NO OF | D44: DOLLARS | E44: DOLLARS | F44: NET DEV | G44: FRANCHISE
A45: TYPE | B45: VGD'S | C45: ESTAB | D45: IN | E45: OUT | F45: REVENUE | G45: FEES
...

Sheet 4th FY 2026
A1: ACADIA PARISH 01
A2: LIC | B2: NO OF | C2: NO OF | D2: DOLLARS | E2: DOLLARS | F2: NET DEV | G2: FRANCHISE
A3: TYPE | B3: VGD'S | C3: ESTAB | D3: IN | E3: OUT | F3: REVENUE | G3: FEES
A4: TYPE 1 | F4: =SUM(D4-E4) -> 0 | G4: =SUM(F4*0.26) -> 0
A5: TYPE 2 | F5: =SUM(D5-E5) -> 0 | G5: =SUM(F5*0.26) -> 0
A6: TYPE 5 | F6: =SUM(D6-E6) -> 0 | G6: =SUM(F6*0.325) -> 0
A7: TOTALS | B7: =SUM(B4:B6) -> 0 | C7: =SUM(C4:C6) -> 0 | D7: =SUM(D4:D6) -> 0 | E7: =SUM(E4:E6) -> 0 | F7: =SUM(F4:F6) -> 0 | G7: =SUM(G4:G6) -> 0
A9: ASSUMPTION PARISH 04
A10: LIC | B10: NO OF | C10: NO OF | D10: DOLLARS | E10: DOLLARS | F10: NET DEV | G10: FRANCHISE
A11: TYPE | B11: VGD'S | C11: ESTAB | D11: IN | E11: OUT | F11: REVENUE | G11: FEES
A12: TYPE 1 | F12: =SUM(D12-E12) -> 0 | G12: =SUM(F12*0.26) -> 0
A13: TYPE 2 | F13: =SUM(D13-E13) -> 0 | G13: =SUM(F13*0.26) -> 0
A14: TYPE 5 | F14: =SUM(D14-E14) -> 0 | G14: =SUM(F14*0.325) -> 0
A15: TOTALS | B15: =SUM(B12:B14) -> 0 | C15: =SUM(C12:C14) -> 0 | D15: =SUM(D12:D14) -> 0 | E15: =SUM(E12:E14) -> 0 | F15: =SUM(F12:F14) -> 0 | G15: =SUM(G12:G14) -> 0
A17: AVOYELLES PARISH 05
A18: LIC | B18: NO OF | C18: NO OF | D18: DOLLARS | E18: DOLLARS | F18: NET DEV | G18: FRANCHISE
A19: TYPE | B19: VGD'S | C19: ESTAB | D19: IN | E19: OUT | F19: REVENUE | G19: FEES
A20: TYPE 1 | F20: =SUM(D20-E20) -> 0 | G20: =SUM(F20*0.26) -> 0
A21: TYPE 2 | F21: =SUM(D21-E21) -> 0 | G21: =SUM(F21*0.26) -> 0
A22: TYPE 5 | F22: =SUM(D22-E22) -> 0 | G22: =SUM(F22*0.325) -> 0
A23: TOTALS | B23: =SUM(B20:B22) -> 0 | C23: =SUM(C20:C22) -> 0 | D23: =SUM(D20:D22) -> 0 | E23: =SUM(E20:E22) -> 0 | F23: =SUM(F20:F22) -> 0 | G23: =SUM(G20:G22) -> 0
A25: BOSSIER PARISH 08
A26: LIC | B26: NO OF | C26: NO OF | D26: DOLLARS | E26: DOLLARS | F26: NET DEV | G26: FRANCHISE
A27: TYPE | B27: VGD'S | C27: ESTAB | D27: IN | E27: OUT | F27: REVENUE | G27: FEES
A28: TYPE 1 | F28: =SUM(D28-E28) -> 0 | G28: =SUM(F28*0.26) -> 0
A29: TYPE 2 | F29: =SUM(D29-E29) -> 0 | G29: =SUM(F29*0.26) -> 0
A30: TYPE 3 | F30: =SUM(D30-E30) -> 0 | G30: =SUM(F30*0.26) -> 0
A31: TYPE 5 | F31: =SUM(D31-E31) -> 0 | G31: =SUM(F31*0.325) -> 0
A32: TOTALS | B32: =SUM(B28:B31) -> 0 | C32: =SUM(C28:C31) -> 0 | D32: =SUM(D28:D31) -> 0 | E32: =SUM(E28:E31) -> 0 | F32: =SUM(F28:F31) -> 0 | G32: =SUM(G28:G31) -> 0
A34: CADDO PARISH 09
A35: LIC | B35: NO OF | C35: NO OF | D35: DOLLARS | E35: DOLLARS | F35: NET DEV | G35: FRANCHISE
A36: TYPE | B36: VGD'S | C36: ESTAB | D36: IN | E36: OUT | F36: REVENUE | G36: FEES
A37: TYPE 1 | F37: =SUM(D37-E37) -> 0 | G37: =SUM(F37*0.26) -> 0
A38: TYPE 2 | F38: =SUM(D38-E38) -> 0 | G38: =SUM(F38*0.26) -> 0
A39: TYPE 3 | F39: =SUM(D39-E39) -> 0 | G39: =SUM(F39*0.26) -> 0
A40: TYPE 5 | F40: =SUM(D40-E40) -> 0 | G40: =SUM(F40*0.325) -> 0
A41: TOTALS | B41: =SUM(B37:B40) -> 0 | C41: =SUM(C37:C40) -> 0 | D41: =SUM(D37:D40) -> 0 | E41: =SUM(E37:E40) -> 0 | F41: =SUM(F37:F40) -> 0 | G41: =SUM(G37:G40) -> 0
A43: CALCASIEU PARISH 10
A44: LIC | B44: NO OF | C44: NO OF | D44: DOLLARS | E44: DOLLARS | F44: NET DEV | G44: FRANCHISE
A45: TYPE | B45: VGD'S | C45: ESTAB | D45: IN | E45: OUT | F45: REVENUE | G45: FEES
...
